Workbook
Name 居宅介護: 選択肢!$B$2:$K$2
Name 重度訪問介護: 選択肢!$B$3:$K$3
Name 同行援護: 選択肢!$B$4:$K$4
Name 行動援護: 選択肢!$B$5:$K$5
Name 療養介護: 選択肢!$B$6:$K$6
Name 生活介護: 選択肢!$B$7:$K$7
Name 短期入所・併設型: 選択肢!$B$8:$K$8
Name 短期入所・空床利用型: 選択肢!$B$9:$K$9
Name 短期入所・単独型: 選択肢!$B$10:$K$10
Name 重度障害者等包括支援: 選択肢!$B$11:$K$11
Name 機能訓練: 選択肢!$B$16:$J$16
Name 生活訓練: 選択肢!$B$17:$K$17
Name 就労選択支援: 選択肢!$B$18:$K$18
Name 就労移行支援: 選択肢!$B$19:$K$19
Name 認定指定就労移行支援: 選択肢!$B$20:$K$20
Name 就労継続支援Ａ型・B型: 選択肢!$B$21:$K$21
Name 就労定着支援: 選択肢!$B$23:$K$23
Name 自立生活援助: 選択肢!$B$24:$K$24
Name 共同生活援助・介護サービス包括型: 選択肢!$B$12:$K$12
Name 共同生活援助・外部サービス利用型: 選択肢!$B$13:$K$13
Name 共同生活援助・日中サービス支援型: 選択肢!$B$14:$K$14
Name 障害者支援施設: 選択肢!$B$15:$L$15
Name 一般相談支援事業: 選択肢!$B$22:$K$22
Name 特定相談支援・障害児相談支援: 選択肢!$B$25:$K$25
Name 児童発達支援・放課後等デイサービス: 選択肢!$B$26:$K$26
Name 児童発達支援・主として重症心身障害児を対象とする場合: 選択肢!$B$27:$K$27
Name 児童発達支援・児童発達支援センターであるもの: 選択肢!$B$28:$L$28
Name 居宅訪問型児童発達支援: 選択肢!$B$30:$K$30
Name 保育所等訪問支援: 選択肢!$B$29:$K$29
Name 福祉型障害児入所施設: 選択肢!$B$31:$K$31
Name 医療型障害児入所施設: 選択肢!$B$32:$K$32
Name _kk06: #REF!
Name ___kk06: #REF!
Name Roman2_3: #REF!
Name roman_09: #REF!
Name _kk29: #REF!
Name ___kk29: #REF!
Name __kk06: #REF!
Name roman7_1: #REF!
Name tapi2: #REF!
Name avrg1: #REF!
Name __kk29: #REF!
Name Roman_03: #REF!
Name kk_04: #REF!
Name Avrg: #REF!
Name teble: #REF!
Name jiritu: #REF!
Name KK_03: #REF!
Name servo1: #REF!
Name 共同生活援助: 選択肢!$B$12:$K$12
Name Roman_04: #REF!
Name Roman_01: #REF!
Name KK_06: #REF!
Name tebiroo: #REF!
Name ｔａｂｉｅ＿04: #REF!
Name kk_07: #REF!
Name KK2_3: #REF!
Name Roman_06: #REF!
Name roman_11: #REF!
Name roman11: #REF!

Sheet 付表３－２
A1: 付表３－２ 一体的に実施する従たる事業所の指定に係る記載事項
L2: ※多機能型事業実施時は、各事業の付表と付表１３を併せて提出してください。
N4: 受付番号
B6: フリガナ
A7: 施 | B7: 名 称
B8: 所在地 | D8: （郵便番号 － ）
A9: 設 | F9: 県 | I9: 郡・市
B11: 連 絡 先 | D11: 電話番号 | K11: ＦＡＸ番号
A12: 実施主体が地方公共団体である場合は、当該事業の実施について定めてある条例等 | J12: 第 条第 項第 号
A13: サービス | C13: フリガナ | J13: 住 所 | L13: （郵便番号 － ）
A14: 管理責任者 | C14: 氏 名
A15: 従業者の職種・員数 | F15: 医 師 | I15: サービス管理責任者 | L15: 看護職員 | O15: 理学療法士 | R15: 作業療法士
F16: 専従 | G16: ※兼務 | I16: 専従 | J16: ※兼務 | L16: 専従 | M16: ※兼務 | O16: 専従 | P16: ※兼務 | R16: 専従 | S16: ※兼務
B17: 従業者数 | D17: 常勤（人）
D18: 非常勤（人）
B19: 常勤換算後の人数（人）
B20: 基準上の必要人数（人）
F21: 機能訓練指導員 | I21: 生活支援員 | L21: 精神保健福祉士 | O21: その他の従業者
F22: 専従 | G22: ※兼務 | I22: 専従 | J22: ※兼務 | L22: 専従 | M22: ※兼務 | O22: 専従 | P22: ※兼務
B23: 従業者数 | D23: 常勤（人）
D24: 非常勤（人）
B25: 常勤換算後の人数（人）
B26: 基準上の必要人数（人）
B27: 前年度の平均 実利用者数（人） | F27: 施設が申告する障害程度区分の平均値
F28: サービス単位 | I28: ４未満 | M28: ４以上５未満 | Q28: ５以上
F29: サービス単位１
F30: サービス単位２
F31: サービス単位３
A32: 主な掲示事項
B33: 営業日 | F33: 単位ごとの営業日
B34: 営業時間 | F34: 単位ごとのサービス提供時間（送迎時間を除く）（① ： ～ ： ② ： ～ ： ）
B35: 主たる対象者 | F35: 特定無し | H35: 身体障害者
H36: 細分無し | J36: 肢体不自由 | L36: 視覚障害 | N36: 聴覚・言語 | P36: 内部障害
F38: 知的障害者 | H38: 精神障害者 | J38: 難病等対象者
B41: 利用定員 | F41: 人（単位ごとの定員）（① ② ）
B42: 基準上の必要定員
B43: 多機能型実施の有無 | F43: 有 ・ 無
B44: 利用料
B46: その他の費用
B47: その他参考となる事項 | F47: 第三者評価の実施状況 | J47: している ・ していない
F48: 苦情解決の措置概要 | J48: 窓口（連絡先） | N48: 担当者
F49: その他
A50: 協力医療機関 | F50: 名 称 | L50: 主な診療科名
A51: 一体的に管理運営する 他の事業所
A52: 添付書類 | F52: 別添のとおり（登記簿謄本又は条例等、事業所平面図、経歴書、運営規程、利用者からの苦情を解決するために講ずる措置の概要、勤務体制・形態一覧表、設備・備品等一覧表、協力医療機関との契約内容がわかるもの）、事業計画書
A53: （備考）
A54: １．「受付番号」「基準上の必要人数」「基準上の必要値」「基準上の必要定員」欄には、記載しないでください。
A55: ２．記入欄が不足する場合は、適宜欄を設けて記載するか又は別葉に記載した書類を添付してください。
A56: ３．「看護職員」とは保健師、看護師、准看護師のことを言います。
A57: ４．新設の場合には、「前年度の平均利用者数」欄は推定数を記入してください。
A58: ５．「主な掲示事項」欄には、その内容を簡潔に記載してください。
A59: ６．「※兼務」欄は、施設入所支援事業以外との兼務を行う職員について記載してください。
A60: ７．「その他の費用」欄には、入所者に直接金銭の負担を求める場合のサービス内容について記載してください。

Sheet 勤務形態一覧表（居宅介護）
A1: 従業者の勤務の体制及び勤務形態一覧表 | AI1: サービス種別 | AK1: 居宅介護
M2: 2024 | Q2: 年 | S2: 5 | U2: 月 | AI2: 事業所名
AI3: (1)記載する期間 | AK3: ４週
AI4: (2)予定/実績の別
AG5: (3)事業所における常勤の従業者が勤務すべき時間数 | AH5: 40 | AK5: 時間/週 | AL5: 160 | AM5: 時間/月
A7: No. | B7: (4)職種 | C7: (5)勤務形態 | D7: (6)資格 | E7: (7)氏名 | F7: (8) | AK7: (9)勤務時間数合計 | AL7: (10)週平均の勤務時間数 | AM7: (11)兼務状況 （兼務先／兼務する職務の内容）等
F8: 第１週 | M8: 第２週 | T8: 第３週 | AA8: 第４週 | AH8: 第５週
B9: ※選択肢にない職種については直接入力してください | F9: =DATE($M$2,$S$2,1) -> 45413 | G9: =DATE($M$2,$S$2,2) -> 45414 | H9: =DATE($M$2,$S$2,3) -> 45415 | I9: =DATE($M$2,$S$2,4) -> 45416 | J9: =DATE($M$2,$S$2,5) -> 45417 | K9: =DATE($M$2,$S$2,6) -> 45418 | L9: =DATE($M$2,$S$2,7) -> 45419 | M9: =DATE($M$2,$S$2,8) -> 45420 | N9: =DATE($M$2,$S$2,9) -> 45421 | O9: =DATE($M$2,$S$2,10) -> 45422 | P9: =DATE($M$2,$S$2,11) -> 45423 | Q9: =DATE($M$2,$S$2,12) -> 45424 | R9: =DATE($M$2,$S$2,13) -> 45425 | S9: =DATE($M$2,$S$2,14) -> 45426 | T9: =DATE($M$2,$S$2,15) -> 45427 | U9: =DATE($M$2,$S$2,16) -> 45428 | V9: =DATE($M$2,$S$2,17) -> 45429 | W9: =DATE($M$2,$S$2,18) -> 45430 | X9: =DATE($M$2,$S$2,19) -> 45431 | Y9: =DATE($M$2,$S$2,20) -> 45432 | Z9: =DATE($M$2,$S$2,21) -> 45433 | AA9: =DATE($M$2,$S$2,22) -> 45434 | AB9: =DATE($M$2,$S$2,23) -> 45435 | AC9: =DATE($M$2,$S$2,24) -> 45436 | AD9: =DATE($M$2,$S$2,25) -> 45437 | AE9: =DATE($M$2,$S$2,26) -> 45438 | AF9: =DATE($M$2,$S$2,27) -> 45439 | AG9: =DATE($M$2,$S$2,28) -> 45440 | AH9: =IF(DAY(EOMONTH(F9,0))<29,"",DATE($M$2,$S$2,29)) -> 45441 | AI9: =IF(DAY(EOMONTH(F9,0))<30,"",DATE($M$2,$S$2,30)) -> 45442 | AJ9: =IF(DAY(EOMONTH(F9,0))<31,"",DATE($M$2,$S$2,31)) -> 45443
F10: =DATE($M$2,$S$2,1) -> 45413 | G10: =DATE($M$2,$S$2,2) -> 45414 | H10: =DATE($M$2,$S$2,3) -> 45415 | I10: =DATE($M$2,$S$2,4) -> 45416 | J10: =DATE($M$2,$S$2,5) -> 45417 | K10: =DATE($M$2,$S$2,6) -> 45418 | L10: =DATE($M$2,$S$2,7) -> 45419 | M10: =DATE($M$2,$S$2,8) -> 45420 | N10: =DATE($M$2,$S$2,9) -> 45421 | O10: =DATE($M$2,$S$2,10) -> 45422 | P10: =DATE($M$2,$S$2,11) -> 45423 | Q10: =DATE($M$2,$S$2,12) -> 45424 | R10: =DATE($M$2,$S$2,13) -> 45425 | S10: =DATE($M$2,$S$2,14) -> 45426 | T10: =DATE($M$2,$S$2,15) -> 45427 | U10: =DATE($M$2,$S$2,16) -> 45428 | V10: =DATE($M$2,$S$2,17) -> 45429 | W10: =DATE($M$2,$S$2,18) -> 45430 | X10: =DATE($M$2,$S$2,19) -> 45431 | Y10: =DATE($M$2,$S$2,20) -> 45432 | Z10: =DATE($M$2,$S$2,21) -> 45433 | AA10: =DATE($M$2,$S$2,22) -> 45434 | AB10: =DATE($M$2,$S$2,23) -> 45435 | AC10: =DATE($M$2,$S$2,24) -> 45436 | AD10: =DATE($M$2,$S$2,25) -> 45437 | AE10: =DATE($M$2,$S$2,26) -> 45438 | AF10: =DATE($M$2,$S$2,27) -> 45439 | AG10: =DATE($M$2,$S$2,28) -> 45440 | AH10: =IF(DAY(EOMONTH(F10,0))<29,"",DATE($M$2,$S$2,29)) -> 45441 | AI10: =IF(DAY(EOMONTH(F10,0))<30,"",DATE($M$2,$S$2,30)) -> 45442 | AJ10: =IF(DAY(EOMONTH(F10,0))<31,"",DATE($M$2,$S$2,31)) -> 45443
A11: 1 | B11: 管理者 | C11: A | E11: A
A12: 2 | B12: サービス提供責任者 | C12: B | E12: B | AK12: =+SUM(F12:AJ12) -> 0 | AL12: =IF($AK$3="４週",AK12/4,AK12/(DAY(EOMONTH($F$9,0))/7)) -> 0
A13: 3 | B13: サービス提供責任者 | C13: C | E13: C | AK13: =+SUM(F13:AJ13) -> 0 | AL13: =IF($AK$3="４週",AK13/4,AK13/(DAY(EOMONTH($F$9,0))/7)) -> 0
A14: 4 | B14: 従業者 | C14: C | E14: D | AK14: =+SUM(F14:AJ14) -> 0 | AL14: =IF($AK$3="４週",AK14/4,AK14/(DAY(EOMONTH($F$9,0))/7)) -> 0
A15: 5 | B15: 従業者 | C15: C | E15: E | AK15: =+SUM(F15:AJ15) -> 0 | AL15: =IF($AK$3="４週",AK15/4,AK15/(DAY(EOMONTH($F$9,0))/7)) -> 0
A16: 6 | B16: 従業者 | C16: D | E16: F | AK16: =+SUM(F16:AJ16) -> 0 | AL16: =IF($AK$3="４週",AK16/4,AK16/(DAY(EOMONTH($F$9,0))/7)) -> 0
A17: 7 | B17: 従業者 | C17: D | E17: G | AK17: =+SUM(F17:AJ17) -> 0 | AL17: =IF($AK$3="４週",AK17/4,AK17/(DAY(EOMONTH($F$9,0))/7)) -> 0
A18: 8 | B18: 従業者 | C18: D | E18: H | AK18: =+SUM(F18:AJ18) -> 0 | AL18: =IF($AK$3="４週",AK18/4,AK18/(DAY(EOMONTH($F$9,0))/7)) -> 0
A19: 9 | B19: 従業者 | C19: D | E19: I | AK19: =+SUM(F19:AJ19) -> 0 | AL19: =IF($AK$3="４週",AK19/4,AK19/(DAY(EOMONTH($F$9,0))/7)) -> 0
A20: 10 | B20: 従業者 | C20: D | E20: J | AK20: =+SUM(F20:AJ20) -> 0 | AL20: =IF($AK$3="４週",AK20/4,AK20/(DAY(EOMONTH($F$9,0))/7)) -> 0
A21: 11 | AK21: =+SUM(F21:AJ21) -> 0 | AL21: =IF($AK$3="４週",AK21/4,AK21/(DAY(EOMONTH($F$9,0))/7)) -> 0
A22: 12 | AK22: =+SUM(F22:AJ22) -> 0 | AL22: =IF($AK$3="４週",AK22/4,AK22/(DAY(EOMONTH($F$9,0))/7)) -> 0
A23: 13 | AK23: =+SUM(F23:AJ23) -> 0 | AL23: =IF($AK$3="４週",AK23/4,AK23/(DAY(EOMONTH($F$9,0))/7)) -> 0
A24: 14 | AK24: =+SUM(F24:AJ24) -> 0 | AL24: =IF($AK$3="４週",AK24/4,AK24/(DAY(EOMONTH($F$9,0))/7)) -> 0
A25: 15 | AK25: =+SUM(F25:AJ25) -> 0 | AL25: =IF($AK$3="４週",AK25/4,AK25/(DAY(EOMONTH($F$9,0))/7)) -> 0
A26: 16 | AK26: =+SUM(F26:AJ26) -> 0 | AL26: =IF($AK$3="４週",AK26/4,AK26/(DAY(EOMONTH($F$9,0))/7)) -> 0
A27: 17 | AK27: =+SUM(F27:AJ27) -> 0 | AL27: =IF($AK$3="４週",AK27/4,AK27/(DAY(EOMONTH($F$9,0))/7)) -> 0
A28: 18 | AK28: =+SUM(F28:AJ28) -> 0 | AL28: =IF($AK$3="４週",AK28/4,AK28/(DAY(EOMONTH($F$9,0))/7)) -> 0
A29: 19 | AK29: =+SUM(F29:AJ29) -> 0 | AL29: =IF($AK$3="４週",AK29/4,AK29/(DAY(EOMONTH($F$9,0))/7)) -> 0
A30: 20 | AK30: =+SUM(F30:AJ30) -> 0 | AL30: =IF($AK$3="４週",AK30/4,AK30/(DAY(EOMONTH($F$9,0))/7)) -> 0
A31: 合計 | F31: =+SUM(F11:F30) -> 0 | G31: =+SUM(G11:G30) -> 0 | H31: =+SUM(H11:H30) -> 0 | I31: =+SUM(I11:I30) -> 0 | J31: =+SUM(J11:J30) -> 0 | K31: =+SUM(K11:K30) -> 0 | L31: =+SUM(L11:L30) -> 0 | M31: =+SUM(M11:M30) -> 0 | ... AJ31: =+SUM(AJ11:AJ30) -> 0 | AK31: =+SUM(F31:AJ31) -> 0 | AL31: =IF($AK$3="４週",AK31/4,AK31/(DAY(EOMONTH($F$9,0))/7)) -> 0
A32: サービス提供時間 | F32: 12 | G32: 20 | H32: 12 | I32: 20 | J32: 12 | K32: 20 | L32: 12 | M32: 20 | N32: 12 | O32: 20 | P32: 12 | Q32: 20 | R32: 12 | S32: 20 | T32: 12 | U32: 20 | V32: 12 | W32: 20 | X32: 12 | Y32: 20 | Z32: 12 | AA32: 20 | AB32: 12 | AC32: 20 | AD32: 12 | AE32: 20 | AF32: 12 | AG32: 20 | AH32: 12 | AI32: 20 | AJ32: 10
A37: ＜人員に関する基準＞
A38: （新規申請の場合は推定数） | M38: ○サービス提供責任者 | U38: =IF(COUNTIF(M40:M43,"○")>1,"いずれか１つを選択してください。","")
D39: =IF(S2=1,10,IF(S2=2,11,IF(S2=3,12,S2-3))) -> 2 | E39: =IF(S2=1,11,IF(S2=2,12,S2-2)) -> 3 | F39: =IF(S2=1,12,S2-1) -> 4 | I39: 合計 | M39: 区分 | AH39: 各区分の値とそれに基づく配置数 | AM39: 必要な配置数
A40: 利用者数（通院等乗降介助以外） | D40: 80 | E40: 80 | F40: 81 | I40: =SUM(D40:F40) -> 241 | M40: ○ | N40: 常勤換算方法によらない場合 | Q40: サービス提供時間が450時間又はその端数を増すごとに1人以上 | AH40: =SUM(F32:AJ32) -> 490 | AJ40: h | AK40: =ROUNDUP(AH40/450,0) -> 2 | AM40: =MIN(AH40:AK42) -> 1
A41: 利用者数（通院等乗降介助） | D41: 10 | E41: 15 | F41: 14 | I41: =SUM(D41:H41)*0.1 -> 3.9 | Q41: 従業者数が10人又はその端数を増すごとに1人以上 | AH41: =COUNTA(B12:B30) -> 9 | AJ41: 人 | AK41: =ROUNDUP(AH41/10,0) -> 1
A42: 合計 | D42: =D40+D41*0.1 -> 81 | E42: =E40+E41*0.1 -> 81.5 | F42: =F40+F41*0.1 -> 82.4 | I42: =SUM(D42:H42) -> 244.9 | Q42: 利用者数が40人又はその端数を増すごとに1人以上 | AH42: =ROUNDDOWN(I44,1) -> 81.6 | AJ42: 人 | AK42: =ROUNDUP(IF(X44="",AH42/40,IF(X44="○",AH42/50)),0) -> 3
A43: ※通院等乗降介助のみの利用者については1人0.1人換算 | H43: （平均利用者数） | N43: 常勤換算方法による場合 | AM43: {=ROUNDUP(_xlfn.IFS(AM40<2,1,AND(AM40<=2,AM40<6),AM40-1,AM40>=6,AM40/2*3),1)} -> 1
I44: =I42/3 -> 81.633333 | M44: 次の条件を満たす場合は「○」を選択→
M45: ①常勤のサービス提供責任者を３人以上配置
M46: ②サービス提供責任者の業務に主として従事する者を1人以上配置
M47: ③サービス提供責任者が行う業務が効率的に行われている
A49: ＜人員基準に関する実人数集計＞
C50: 管理者 | E50: =IF(VLOOKUP($AK$1,選択肢!$A$1:$J$32,E55,FALSE)=0,"-",VLOOKUP($AK$1,選択肢!$A$1:$J$32,E55,FALSE)) -> サービス提供責任者 | I50: =IF(VLOOKUP($AK$1,選択肢!$A$1:$J$32,I55,FALSE)=0,"-",VLOOKUP($AK$1,選択肢!$A$1:$J$32,I55,FALSE)) -> 従業者
C51: 専従 | D51: 兼務 | E51: 専従 | F51: 兼務 | I51: 専従 | L51: 兼務
B52: 常勤 | C52: =COUNTIFS($B$11:$B$30,C$50,$C$11:$C$30,"A",$E$11:$E$30,"*") -> 1 | D52: =COUNTIFS($B$11:$B$30,C$50,$C$11:$C$30,"B",$E$11:$E$30,"*") -> 0 | E52: =COUNTIFS($B$11:$B$30,E$50,$C$11:$C$30,"A",$E$11:$E$30,"*") -> 0 | F52: =COUNTIFS($B$11:$B$30,E$50,$C$11:$C$30,"B",$E$11:$E$30,"*") -> 1 | I52: =COUNTIFS($B$11:$B$30,I$50,$C$11:$C$30,"A",$E$11:$E$30,"*") -> 0 | L52: =COUNTIFS($B$11:$B$30,I$50,$C$11:$C$30,"B",$E$11:$E$30,"*") -> 0
B53: 非常勤 | E53: =COUNTIFS($B$11:$B$30,E$50,$C$11:$C$30,"C",$E$11:$E$30,"*") -> 1 | F53: =COUNTIFS($B$11:$B$30,E$50,$C$11:$C$30,"D",$E$11:$E$30,"*") -> 0 | I53: =COUNTIFS($B$11:$B$30,I$50,$C$11:$C$30,"C",$E$11:$E$30,"*") -> 2 | L53: =COUNTIFS($B$11:$B$30,I$50,$C$11:$C$30,"D",$E$11:$E$30,"*") -> 5
B54: 常勤換算数 | E54: =IF($AK$3="４週",SUMIFS($AK$11:$AK$30,$B$11:$B$30,E50)/4/$AH$5,IF($AK$3="歴月",SUMIFS($AK$11:$AK$30,$B$11:$B$30,E50)/$AL$5,"記載する期間を選択してください")) -> 0 | I54: =IF($AK$3="４週",SUMIFS($AK$11:$AK$30,$B$11:$B$30,I50)/4/$AH$5,IF($AK$3="歴月",SUMIFS($AK$11:$AK$30,$B$11:$B$30,I50)/$AL$5,"記載する期間を選択してください")) -> 0
C55: 2 | E55: 3 | I55: 4 | O55: 5 | U55: 6 | AA55: 7 | AG55: 8 | AL55: 9
A56: ・最初に「年月欄」「サービス種別」「事業所名」を入力してください。 | R56: 6 | X56: 7 | AD56: 8 | AJ56: 9
A57: (1) 「４週」・「暦月」のいずれかを選択してください。
A58: (2) 「予定」・「実績」のいずれかを選択してください。
A59: (3) 事業所における常勤の従業者が勤務すべき時間数を入力してください。
A60: (4) 従業者の職種を入力してください。
A61: 記入の順序は、職種ごとにまとめてください。
A62: (5) 従業者の勤務形態について、下記のうち該当する区分の記号を入力してください。
B63: 記号 | C63: 区分
B64: A | C64: 常勤で専従
B65: B | C65: 常勤で兼務
B66: C | C66: 非常勤で専従
B67: D | C67: 非常勤で兼務
B68: （注）常勤・非常勤の区分について
B69: 当該事業所における勤務時間が、当該事業所において定められている常勤の従業者が勤務すべき時間数に達していることをいいます。雇用の形態は考慮しません。
B70: （例えば、常勤者は週に40時間勤務することとされた事業所であれば、非正規雇用であっても、週40時間勤務する従業者は常勤扱いとなります。）
A71: (6) 従業者の保有する資格を入力してください。
A72: 保有資格を全て記入するのではなく、人員基準上、求められる資格等を入力してください。
A73: ※選択した資格及び研修に関して、必要に応じて、資格証又は研修修了証等の写しを添付資料として提出してください。
A74: (7) 従業者の氏名を記入してください。
A75: (8) 申請する事業に係る従業者（管理者を含む。）の1ヶ月分の勤務時間を入力してください。
A76: (9) 常勤の職員の休暇等については、その期間が暦年で１月を超えるものでない限り、常勤換算の計算上は勤務したものとみなすことができます。
B77: その場合、勤務時間欄には「休」と記入し、勤務時間の合計に含めてください（非常勤職員の休暇等は常勤換算の計算に含めることはできません）。
B78: ※指定基準の確認に際しては、４週分の入力で差し支えありません。
A79: (10) 従業者ごとに、合計勤務時間数を入力してください。
A80: ※ 入力することができる時間数は、当該事業所において常勤の従業者が勤務すべき勤務時間数を上限とします。
A81: (11) 従業者ごとに、週平均の勤務時間数を入力してください。
A82: (12) 申請する事業所以外の事業所・施設との兼務がある場合は、兼務先の事業所・施設の名称、兼務する職務の内容について記入してください。
A83: 同一事業所内の兼務についても兼務する職務の内容を記入してください。
A84: その他、特記事項欄としてもご活用ください。
A85: （13)本表には計算式を設定していますが、結果に誤りがないかご確認ください。
A86: （14) 必要項目を満たしていれば、各事業所で使用するシフト表等をもって代替書類として差し支えありません。

Sheet 勤務形態一覧表（重度訪問介護）
A1: 従業者の勤務の体制及び勤務形態一覧表 | AI1: サービス種別 | AK1: 重度訪問介護
M2: 2024 | Q2: 年 | S2: 5 | U2: 月 | AI2: 事業所名
AI3: (1)記載する期間 | AK3: ４週
AI4: (2)予定/実績の別
AG5: (3)事業所における常勤の従業者が勤務すべき時間数 | AH5: 40 | AK5: 時間/週 | AM5: 時間/月
A7: No. | B7: (4)職種 | C7: (5)勤務形態 | D7: (6)資格 | E7: (7)氏名 | F7: (8) | AK7: (9)勤務時間数合計 | AL7: (10)週平均の勤務時間数 | AM7: (11)兼務状況 （兼務先／兼務する職務の内容）等
F8: 第１週 | M8: 第２週 | T8: 第３週 | AA8: 第４週 | AH8: 第５週
B9: ※選択肢にない職種については直接入力してください | F9: =DATE($M$2,$S$2,1) -> 45413 | G9: =DATE($M$2,$S$2,2) -> 45414 | H9: =DATE($M$2,$S$2,3) -> 45415 | I9: =DATE($M$2,$S$2,4) -> 45416 | J9: =DATE($M$2,$S$2,5) -> 45417 | K9: =DATE($M$2,$S$2,6) -> 45418 | L9: =DATE($M$2,$S$2,7) -> 45419 | M9: =DATE($M$2,$S$2,8) -> 45420 | N9: =DATE($M$2,$S$2,9) -> 45421 | O9: =DATE($M$2,$S$2,10) -> 45422 | P9: =DATE($M$2,$S$2,11) -> 45423 | Q9: =DATE($M$2,$S$2,12) -> 45424 | R9: =DATE($M$2,$S$2,13) -> 45425 | S9: =DATE($M$2,$S$2,14) -> 45426 | T9: =DATE($M$2,$S$2,15) -> 45427 | U9: =DATE($M$2,$S$2,16) -> 45428 | V9: =DATE($M$2,$S$2,17) -> 45429 | W9: =DATE($M$2,$S$2,18) -> 45430 | X9: =DATE($M$2,$S$2,19) -> 45431 | Y9: =DATE($M$2,$S$2,20) -> 45432 | Z9: =DATE($M$2,$S$2,21) -> 45433 | AA9: =DATE($M$2,$S$2,22) -> 45434 | AB9: =DATE($M$2,$S$2,23) -> 45435 | AC9: =DATE($M$2,$S$2,24) -> 45436 | AD9: =DATE($M$2,$S$2,25) -> 45437 | AE9: =DATE($M$2,$S$2,26) -> 45438 | AF9: =DATE($M$2,$S$2,27) -> 45439 | AG9: =DATE($M$2,$S$2,28) -> 45440 | AH9: =IF(DAY(EOMONTH(F9,0))<29,"",DATE($M$2,$S$2,29)) -> 45441 | AI9: =IF(DAY(EOMONTH(F9,0))<30,"",DATE($M$2,$S$2,30)) -> 45442 | AJ9: =IF(DAY(EOMONTH(F9,0))<31,"",DATE($M$2,$S$2,31)) -> 45443
F10: =DATE($M$2,$S$2,1) -> 45413 | G10: =DATE($M$2,$S$2,2) -> 45414 | H10: =DATE($M$2,$S$2,3) -> 45415 | I10: =DATE($M$2,$S$2,4) -> 45416 | J10: =DATE($M$2,$S$2,5) -> 45417 | K10: =DATE($M$2,$S$2,6) -> 45418 | L10: =DATE($M$2,$S$2,7) -> 45419 | M10: =DATE($M$2,$S$2,8) -> 45420 | N10: =DATE($M$2,$S$2,9) -> 45421 | O10: =DATE($M$2,$S$2,10) -> 45422 | P10: =DATE($M$2,$S$2,11) -> 45423 | Q10: =DATE($M$2,$S$2,12) -> 45424 | R10: =DATE($M$2,$S$2,13) -> 45425 | S10: =DATE($M$2,$S$2,14) -> 45426 | T10: =DATE($M$2,$S$2,15) -> 45427 | U10: =DATE($M$2,$S$2,16) -> 45428 | V10: =DATE($M$2,$S$2,17) -> 45429 | W10: =DATE($M$2,$S$2,18) -> 45430 | X10: =DATE($M$2,$S$2,19) -> 45431 | Y10: =DATE($M$2,$S$2,20) -> 45432 | Z10: =DATE($M$2,$S$2,21) -> 45433 | AA10: =DATE($M$2,$S$2,22) -> 45434 | AB10: =DATE($M$2,$S$2,23) -> 45435 | AC10: =DATE($M$2,$S$2,24) -> 45436 | AD10: =DATE($M$2,$S$2,25) -> 45437 | AE10: =DATE($M$2,$S$2,26) -> 45438 | AF10: =DATE($M$2,$S$2,27) -> 45439 | AG10: =DATE($M$2,$S$2,28) -> 45440 | AH10: =IF(DAY(EOMONTH(F10,0))<29,"",DATE($M$2,$S$2,29)) -> 45441 | AI10: =IF(DAY(EOMONTH(F10,0))<30,"",DATE($M$2,$S$2,30)) -> 45442 | AJ10: =IF(DAY(EOMONTH(F10,0))<31,"",DATE($M$2,$S$2,31)) -> 45443
A11: 1 | B11: 管理者 | C11: A | E11: A
A12: 2 | B12: サービス提供責任者 | C12: B | E12: B | AK12: =+SUM(F12:AJ12) -> 0 | AL12: =IF($AK$3="４週",AK12/4,AK12/(DAY(EOMONTH($F$9,0))/7)) -> 0
A13: 3 | B13: サービス提供責任者 | C13: C | E13: C | AK13: =+SUM(F13:AJ13) -> 0 | AL13: =IF($AK$3="４週",AK13/4,AK13/(DAY(EOMONTH($F$9,0))/7)) -> 0
A14: 4 | B14: 従業者 | C14: C | E14: D | AK14: =+SUM(F14:AJ14) -> 0 | AL14: =IF($AK$3="４週",AK14/4,AK14/(DAY(EOMONTH($F$9,0))/7)) -> 0
A15: 5 | B15: 従業者 | C15: C | E15: E | AK15: =+SUM(F15:AJ15) -> 0 | AL15: =IF($AK$3="４週",AK15/4,AK15/(DAY(EOMONTH($F$9,0))/7)) -> 0
A16: 6 | B16: 従業者 | C16: D | E16: F | AK16: =+SUM(F16:AJ16) -> 0 | AL16: =IF($AK$3="４週",AK16/4,AK16/(DAY(EOMONTH($F$9,0))/7)) -> 0
A17: 7 | B17: 従業者 | C17: D | E17: G | AK17: =+SUM(F17:AJ17) -> 0 | AL17: =IF($AK$3="４週",AK17/4,AK17/(DAY(EOMONTH($F$9,0))/7)) -> 0
A18: 8 | B18: 従業者 | C18: D | E18: H | AK18: =+SUM(F18:AJ18) -> 0 | AL18: =IF($AK$3="４週",AK18/4,AK18/(DAY(EOMONTH($F$9,0))/7)) -> 0
A19: 9 | B19: 従業者 | C19: D | E19: I | AK19: =+SUM(F19:AJ19) -> 0 | AL19: =IF($AK$3="４週",AK19/4,AK19/(DAY(EOMONTH($F$9,0))/7)) -> 0
A20: 10 | B20: 従業者 | C20: D | E20: J | AK20: =+SUM(F20:AJ20) -> 0 | AL20: =IF($AK$3="４週",AK20/4,AK20/(DAY(EOMONTH($F$9,0))/7)) -> 0
A21: 11 | AK21: =+SUM(F21:AJ21) -> 0 | AL21: =IF($AK$3="４週",AK21/4,AK21/(DAY(EOMONTH($F$9,0))/7)) -> 0
A22: 12 | AK22: =+SUM(F22:AJ22) -> 0 | AL22: =IF($AK$3="４週",AK22/4,AK22/(DAY(EOMONTH($F$9,0))/7)) -> 0
A23: 13 | AK23: =+SUM(F23:AJ23) -> 0 | AL23: =IF($AK$3="４週",AK23/4,AK23/(DAY(EOMONTH($F$9,0))/7)) -> 0
A24: 14 | AK24: =+SUM(F24:AJ24) -> 0 | AL24: =IF($AK$3="４週",AK24/4,AK24/(DAY(EOMONTH($F$9,0))/7)) -> 0
A25: 15 | AK25: =+SUM(F25:AJ25) -> 0 | AL25: =IF($AK$3="４週",AK25/4,AK25/(DAY(EOMONTH($F$9,0))/7)) -> 0
A26: 16 | AK26: =+SUM(F26:AJ26) -> 0 | AL26: =IF($AK$3="４週",AK26/4,AK26/(DAY(EOMONTH($F$9,0))/7)) -> 0
A27: 17 | AK27: =+SUM(F27:AJ27) -> 0 | AL27: =IF($AK$3="４週",AK27/4,AK27/(DAY(EOMONTH($F$9,0))/7)) -> 0
A28: 18 | AK28: =+SUM(F28:AJ28) -> 0 | AL28: =IF($AK$3="４週",AK28/4,AK28/(DAY(EOMONTH($F$9,0))/7)) -> 0
A29: 19 | AK29: =+SUM(F29:AJ29) -> 0 | AL29: =IF($AK$3="４週",AK29/4,AK29/(DAY(EOMONTH($F$9,0))/7)) -> 0
A30: 20 | AK30: =+SUM(F30:AJ30) -> 0 | AL30: =IF($AK$3="４週",AK30/4,AK30/(DAY(EOMONTH($F$9,0))/7)) -> 0
A31: 合計 | F31: =+SUM(F11:F30) -> 0 | G31: =+SUM(G11:G30) -> 0 | H31: =+SUM(H11:H30) -> 0 | I31: =+SUM(I11:I30) -> 0 | J31: =+SUM(J11:J30) -> 0 | K31: =+SUM(K11:K30) -> 0 | L31: =+SUM(L11:L30) -> 0 | M31: =+SUM(M11:M30) -> 0 | ... AJ31: =+SUM(AJ11:AJ30) -> 0 | AK31: =+SUM(F31:AJ31) -> 0 | AL31: =IF($AK$3="４週",AK31/4,AK31/(DAY(EOMONTH($F$9,0))/7)) -> 0
A32: サービス提供時間 | F32: 12 | G32: 20 | H32: 12 | I32: 20 | J32: 12 | K32: 20 | L32: 12 | M32: 20 | N32: 12 | O32: 20 | P32: 12 | Q32: 20 | R32: 12 | S32: 20 | T32: 12 | U32: 20 | V32: 12 | W32: 20 | X32: 12 | Y32: 20 | Z32: 12 | AA32: 20 | AB32: 12 | AC32: 20 | AD32: 12 | AE32: 20 | AF32: 12 | AG32: 20 | AH32: 12 | AI32: 20 | AJ32: 20
A37: ＜人員に関する基準＞
A38: （新規申請の場合は推定数） | M38: ○サービス提供責任者 | U38: =IF(COUNTIF(M40:M43,"○")>1,"いずれか１つを選択してください。","")
D39: =IF(S2=1,10,IF(S2=2,11,IF(S2=3,12,S2-3))) -> 2 | E39: =IF(S2=1,11,IF(S2=2,12,S2-2)) -> 3 | F39: =IF(S2=1,12,S2-1) -> 4 | I39: 合計 | M39: 区分 | AH39: 各区分の値とそれに基づく配置数 | AM39: 必要な配置数
A40: 利用者数 | D40: 80 | E40: 80 | F40: 81 | I40: =SUM(D40:F40) -> 241 | M40: ○ | N40: 常勤換算方法によらない場合 | Q40: サービス提供時間が1000時間又はその端数を増すごとに1人以上 | AH40: =SUM(F32:AJ32) -> 500 | AJ40: h | AK40: =ROUNDUP(AH40/1000,0) -> 1 | AM40: =MIN(AH40:AK42) -> 1
H41: （平均利用者数） | Q41: 従業者数が20人又はその端数を増すごとに1人以上 | AH41: =COUNTA(B12:B30) -> 9 | AJ41: 人 | AK41: =ROUNDUP(AH41/20,0) -> 1
I42: =I40/3 -> 80.333333 | Q42: 利用者数が10人又はその端数を増すごとに1人以上 | AH42: =ROUNDDOWN(I42,1) -> 80.3 | AJ42: 人 | AK42: =ROUNDUP(AH42/10,0) -> 9
N43: 常勤換算方法による場合 | AM43: {=ROUNDUP(_xlfn.IFS(AM40<2,1,AND(AM40<=2,AM40<6),AM40-1,AM40>=6,AM40/2*3),1)} -> 1
M44: ※事業所における待機時間や移動時間については、サービス提供時間から除く。
A46: ＜人員基準に関する実人数集計＞
C47: =IF(VLOOKUP($AK$1,選択肢!$A$1:$J$32,C52,FALSE)=0,"-",VLOOKUP($AK$1,選択肢!$A$1:$J$32,C52,FALSE)) -> 管理者 | E47: =IF(VLOOKUP($AK$1,選択肢!$A$1:$J$32,E52,FALSE)=0,"-",VLOOKUP($AK$1,選択肢!$A$1:$J$32,E52,FALSE)) -> サービス提供責任者 | I47: =IF(VLOOKUP($AK$1,選択肢!$A$1:$J$32,I52,FALSE)=0,"-",VLOOKUP($AK$1,選択肢!$A$1:$J$32,I52,FALSE)) -> 従業者
C48: 専従 | D48: 兼務 | E48: 専従 | F48: 兼務 | I48: 専従 | L48: 兼務
B49: 常勤 | C49: =COUNTIFS($B$11:$B$30,C$47,$C$11:$C$30,"A",$E$11:$E$30,"*") -> 1 | D49: =COUNTIFS($B$11:$B$30,C$47,$C$11:$C$30,"B",$E$11:$E$30,"*") -> 0 | E49: =COUNTIFS($B$11:$B$30,E$47,$C$11:$C$30,"A",$E$11:$E$30,"*") -> 0 | F49: =COUNTIFS($B$11:$B$30,E$47,$C$11:$C$30,"B",$E$11:$E$30,"*") -> 1 | I49: =COUNTIFS($B$11:$B$30,I$47,$C$11:$C$30,"A",$E$11:$E$30,"*") -> 0 | L49: =COUNTIFS($B$11:$B$30,I$47,$C$11:$C$30,"B",$E$11:$E$30,"*") -> 0
B50: 非常勤 | E50: =COUNTIFS($B$11:$B$30,E$47,$C$11:$C$30,"C",$E$11:$E$30,"*") -> 1 | F50: =COUNTIFS($B$11:$B$30,E$47,$C$11:$C$30,"D",$E$11:$E$30,"*") -> 0 | I50: =COUNTIFS($B$11:$B$30,I$47,$C$11:$C$30,"C",$E$11:$E$30,"*") -> 2 | L50: =COUNTIFS($B$11:$B$30,I$47,$C$11:$C$30,"D",$E$11:$E$30,"*") -> 5
B51: 常勤換算数 | E51: =IF($AK$3="４週",SUMIFS($AK$11:$AK$30,$B$11:$B$30,E47)/4/$AH$5,IF($AK$3="歴月",SUMIFS($AK$11:$AK$30,$B$11:$B$30,E47)/$AL$5,"記載する期間を選択してください")) -> 0 | I51: =IF($AK$3="４週",SUMIFS($AK$11:$AK$30,$B$11:$B$30,I47)/4/$AH$5,IF($AK$3="歴月",SUMIFS($AK$11:$AK$30,$B$11:$B$30,I47)/$AL$5,"記載する期間を選択してください")) -> 0
C52: 2 | E52: 3 | I52: 4 | O52: 5 | U52: 6 | AA52: 7 | AG52: 8 | AL52: 9
A53: ・最初に「年月欄」「サービス種別」「事業所名」を入力してください。 | R53: 6 | X53: 7 | AD53: 8 | AJ53: 9
A54: (1) 「４週」・「暦月」のいずれかを選択してください。
A55: (2) 「予定」・「実績」のいずれかを選択してください。
A56: (3) 事業所における常勤の従業者が勤務すべき時間数を入力してください。
A57: (4) 従業者の職種を入力してください。
A58: 記入の順序は、職種ごとにまとめてください。
A59: (5) 従業者の勤務形態について、下記のうち該当する区分の記号を入力してください。
B60: 記号 | C60: 区分
B61: A | C61: 常勤で専従
B62: B | C62: 常勤で兼務
B63: C | C63: 非常勤で専従
B64: D | C64: 非常勤で兼務
B65: （注）常勤・非常勤の区分について
B66: 当該事業所における勤務時間が、当該事業所において定められている常勤の従業者が勤務すべき時間数に達していることをいいます。雇用の形態は考慮しません。
B67: （例えば、常勤者は週に40時間勤務することとされた事業所であれば、非正規雇用であっても、週40時間勤務する従業者は常勤扱いとなります。）
A68: (6) 従業者の保有する資格を入力してください。
A69: 保有資格を全て記入するのではなく、人員基準上、求められる資格等を入力してください。
A70: ※選択した資格及び研修に関して、必要に応じて、資格証又は研修修了証等の写しを添付資料として提出してください。
A71: (7) 従業者の氏名を記入してください。
A72: (8) 申請する事業に係る従業者（管理者を含む。）の1ヶ月分の勤務時間を入力してください。
A73: (9) 常勤の職員の休暇等については、その期間が暦年で１月を超えるものでない限り、常勤換算の計算上は勤務したものとみなすことができます。
B74: その場合、勤務時間欄には「休」と記入し、勤務時間の合計に含めてください（非常勤職員の休暇等は常勤換算の計算に含めることはできません）。
B75: ※指定基準の確認に際しては、４週分の入力で差し支えありません。
A76: (10) 従業者ごとに、合計勤務時間数を入力してください。
A77: ※ 入力することができる時間数は、当該事業所において常勤の従業者が勤務すべき勤務時間数を上限とします。
A78: (11) 従業者ごとに、週平均の勤務時間数を入力してください。
A79: (12) 申請する事業所以外の事業所・施設との兼務がある場合は、兼務先の事業所・施設の名称、兼務する職務の内容について記入してください。
A80: 同一事業所内の兼務についても兼務する職務の内容を記入してください。
A81: その他、特記事項欄としてもご活用ください。
A82: （13)本表には計算式を設定していますが、結果に誤りがないかご確認ください。
A83: （14) 必要項目を満たしていれば、各事業所で使用するシフト表等をもって代替書類として差し支えありません。

Sheet 勤務形態一覧表（同行援護）
A1: 従業者の勤務の体制及び勤務形態一覧表 | AI1: サービス種別 | AK1: 同行援護
M2: 2024 | Q2: 年 | S2: 5 | U2: 月 | AI2: 事業所名
AI3: (1)記載する期間 | AK3: ４週
AI4: (2)予定/実績の別
AG5: (3)事業所における常勤の従業者が勤務すべき時間数 | AH5: 100 | AK5: 時間/週 | AM5: 時間/月
A7: No. | B7: (4)職種 | C7: (5)勤務形態 | D7: (6)資格 | E7: (7)氏名 | F7: (8) | AK7: (9)勤務時間数合計 | AL7: (10)週平均の勤務時間数 | AM7: (11)兼務状況 （兼務先／兼務する職務の内容）等
F8: 第１週 | M8: 第２週 | T8: 第３週 | AA8: 第４週 | AH8: 第５週
B9: ※選択肢にない職種については直接入力してください | F9: =DATE($M$2,$S$2,1) -> 45413 | G9: =DATE($M$2,$S$2,2) -> 45414 | H9: =DATE($M$2,$S$2,3) -> 45415 | I9: =DATE($M$2,$S$2,4) -> 45416 | J9: =DATE($M$2,$S$2,5) -> 45417 | K9: =DATE($M$2,$S$2,6) -> 45418 | L9: =DATE($M$2,$S$2,7) -> 45419 | M9: =DATE($M$2,$S$2,8) -> 45420 | N9: =DATE($M$2,$S$2,9) -> 45421 | O9: =DATE($M$2,$S$2,10) -> 45422 | P9: =DATE($M$2,$S$2,11) -> 45423 | Q9: =DATE($M$2,$S$2,12) -> 45424 | R9: =DATE($M$2,$S$2,13) -> 45425 | S9: =DATE($M$2,$S$2,14) -> 45426 | T9: =DATE($M$2,$S$2,15) -> 45427 | U9: =DATE($M$2,$S$2,16) -> 45428 | V9: =DATE($M$2,$S$2,17) -> 45429 | W9: =DATE($M$2,$S$2,18) -> 45430 | X9: =DATE($M$2,$S$2,19) -> 45431 | Y9: =DATE($M$2,$S$2,20) -> 45432 | Z9: =DATE($M$2,$S$2,21) -> 45433 | AA9: =DATE($M$2,$S$2,22) -> 45434 | AB9: =DATE($M$2,$S$2,23) -> 45435 | AC9: =DATE($M$2,$S$2,24) -> 45436 | AD9: =DATE($M$2,$S$2,25) -> 45437 | AE9: =DATE($M$2,$S$2,26) -> 45438 | AF9: =DATE($M$2,$S$2,27) -> 45439 | AG9: =DATE($M$2,$S$2,28) -> 45440 | AH9: =IF(DAY(EOMONTH(F9,0))<29,"",DATE($M$2,$S$2,29)) -> 45441 | AI9: =IF(DAY(EOMONTH(F9,0))<30,"",DATE($M$2,$S$2,30)) -> 45442 | AJ9: =IF(DAY(EOMONTH(F9,0))<31,"",DATE($M$2,$S$2,31)) -> 45443
F10: =DATE($M$2,$S$2,1) -> 45413 | G10: =DATE($M$2,$S$2,2) -> 45414 | H10: =DATE($M$2,$S$2,3) -> 45415 | I10: =DATE($M$2,$S$2,4) -> 45416 | J10: =DATE($M$2,$S$2,5) -> 45417 | K10: =DATE($M$2,$S$2,6) -> 45418 | L10: =DATE($M$2,$S$2,7) -> 45419 | M10: =DATE($M$2,$S$2,8) -> 45420 | N10: =DATE($M$2,$S$2,9) -> 45421 | O10: =DATE($M$2,$S$2,10) -> 45422 | P10: =DATE($M$2,$S$2,11) -> 45423 | Q10: =DATE($M$2,$S$2,12) -> 45424 | R10: =DATE($M$2,$S$2,13) -> 45425 | S10: =DATE($M$2,$S$2,14) -> 45426 | T10: =DATE($M$2,$S$2,15) -> 45427 | U10: =DATE($M$2,$S$2,16) -> 45428 | V10: =DATE($M$2,$S$2,17) -> 45429 | W10: =DATE($M$2,$S$2,18) -> 45430 | X10: =DATE($M$2,$S$2,19) -> 45431 | Y10: =DATE($M$2,$S$2,20) -> 45432 | Z10: =DATE($M$2,$S$2,21) -> 45433 | AA10: =DATE($M$2,$S$2,22) -> 45434 | AB10: =DATE($M$2,$S$2,23) -> 45435 | AC10: =DATE($M$2,$S$2,24) -> 45436 | AD10: =DATE($M$2,$S$2,25) -> 45437 | AE10: =DATE($M$2,$S$2,26) -> 45438 | AF10: =DATE($M$2,$S$2,27) -> 45439 | AG10: =DATE($M$2,$S$2,28) -> 45440 | AH10: =IF(DAY(EOMONTH(F10,0))<29,"",DATE($M$2,$S$2,29)) -> 45441 | AI10: =IF(DAY(EOMONTH(F10,0))<30,"",DATE($M$2,$S$2,30)) -> 45442 | AJ10: =IF(DAY(EOMONTH(F10,0))<31,"",DATE($M$2,$S$2,31)) -> 45443
A11: 1 | B11: 管理者 | C11: A | E11: A
A12: 2 | B12: サービス提供責任者 | C12: B | E12: B | AK12: =+SUM(F12:AJ12) -> 0 | AL12: =IF($AK$3="４週",AK12/4,AK12/(DAY(EOMONTH($F$9,0))/7)) -> 0
A13: 3 | B13: サービス提供責任者 | C13: C | E13: C | AK13: =+SUM(F13:AJ13) -> 0 | AL13: =IF($AK$3="４週",AK13/4,AK13/(DAY(EOMONTH($F$9,0))/7)) -> 0
A14: 4 | B14: 従業者 | C14: C | E14: D | AK14: =+SUM(F14:AJ14) -> 0 | AL14: =IF($AK$3="４週",AK14/4,AK14/(DAY(EOMONTH($F$9,0))/7)) -> 0
A15: 5 | B15: 従業者 | C15: C | E15: E | AK15: =+SUM(F15:AJ15) -> 0 | AL15: =IF($AK$3="４週",AK15/4,AK15/(DAY(EOMONTH($F$9,0))/7)) -> 0
A16: 6 | B16: 従業者 | C16: D | E16: F | AK16: =+SUM(F16:AJ16) -> 0 | AL16: =IF($AK$3="４週",AK16/4,AK16/(DAY(EOMONTH($F$9,0))/7)) -> 0
A17: 7 | B17: 従業者 | C17: D | E17: G | AK17: =+SUM(F17:AJ17) -> 0 | AL17: =IF($AK$3="４週",AK17/4,AK17/(DAY(EOMONTH($F$9,0))/7)) -> 0
A18: 8 | B18: 従業者 | C18: D | E18: H | AK18: =+SUM(F18:AJ18) -> 0 | AL18: =IF($AK$3="４週",AK18/4,AK18/(DAY(EOMONTH($F$9,0))/7)) -> 0
A19: 9 | B19: 従業者 | C19: D | E19: I | AK19: =+SUM(F19:AJ19) -> 0 | AL19: =IF($AK$3="４週",AK19/4,AK19/(DAY(EOMONTH($F$9,0))/7)) -> 0
A20: 10 | B20: 従業者 | C20: D | E20: J | AK20: =+SUM(F20:AJ20) -> 0 | AL20: =IF($AK$3="４週",AK20/4,AK20/(DAY(EOMONTH($F$9,0))/7)) -> 0
A21: 11 | AK21: =+SUM(F21:AJ21) -> 0 | AL21: =IF($AK$3="４週",AK21/4,AK21/(DAY(EOMONTH($F$9,0))/7)) -> 0
A22: 12 | AK22: =+SUM(F22:AJ22) -> 0 | AL22: =IF($AK$3="４週",AK22/4,AK22/(DAY(EOMONTH($F$9,0))/7)) -> 0
A23: 13 | AK23: =+SUM(F23:AJ23) -> 0 | AL23: =IF($AK$3="４週",AK23/4,AK23/(DAY(EOMONTH($F$9,0))/7)) -> 0
A24: 14 | AK24: =+SUM(F24:AJ24) -> 0 | AL24: =IF($AK$3="４週",AK24/4,AK24/(DAY(EOMONTH($F$9,0))/7)) -> 0
A25: 15 | AK25: =+SUM(F25:AJ25) -> 0 | AL25: =IF($AK$3="４週",AK25/4,AK25/(DAY(EOMONTH($F$9,0))/7)) -> 0
A26: 16 | AK26: =+SUM(F26:AJ26) -> 0 | AL26: =IF($AK$3="４週",AK26/4,AK26/(DAY(EOMONTH($F$9,0))/7)) -> 0
A27: 17 | AK27: =+SUM(F27:AJ27) -> 0 | AL27: =IF($AK$3="４週",AK27/4,AK27/(DAY(EOMONTH($F$9,0))/7)) -> 0
A28: 18 | AK28: =+SUM(F28:AJ28) -> 0 | AL28: =IF($AK$3="４週",AK28/4,AK28/(DAY(EOMONTH($F$9,0))/7)) -> 0
A29: 19 | AK29: =+SUM(F29:AJ29) -> 0 | AL29: =IF($AK$3="４週",AK29/4,AK29/(DAY(EOMONTH($F$9,0))/7)) -> 0
A30: 20 | AK30: =+SUM(F30:AJ30) -> 0 | AL30: =IF($AK$3="４週",AK30/4,AK30/(DAY(EOMONTH($F$9,0))/7)) -> 0
A31: 合計 | F31: =+SUM(F11:F30) -> 0 | G31: =+SUM(G11:G30) -> 0 | H31: =+SUM(H11:H30) -> 0 | I31: =+SUM(I11:I30) -> 0 | J31: =+SUM(J11:J30) -> 0 | K31: =+SUM(K11:K30) -> 0 | L31: =+SUM(L11:L30) -> 0 | M31: =+SUM(M11:M30) -> 0 | ... AJ31: =+SUM(AJ11:AJ30) -> 0 | AK31: =+SUM(F31:AJ31) -> 0 | AL31: =IF($AK$3="４週",AK31/4,AK31/(DAY(EOMONTH($F$9,0))/7)) -> 0
A32: サービス提供時間 | F32: 12 | G32: 20 | H32: 12 | I32: 20 | J32: 12 | K32: 20 | L32: 12 | M32: 20 | N32: 12 | O32: 20 | P32: 12 | Q32: 20 | R32: 12 | S32: 20 | T32: 12 | U32: 20 | V32: 12 | W32: 20 | X32: 12 | Y32: 20 | Z32: 12 | AA32: 20 | AB32: 12 | AC32: 20 | AD32: 12 | AE32: 20 | AF32: 12 | AG32: 20 | AH32: 12 | AI32: 20 | AJ32: 10
A37: ＜人員に関する基準＞
A38: （新規申請の場合は推定数） | M38: ○サービス提供責任者 | U38: =IF(COUNTIF(M40:M43,"○")>1,"いずれか１つを選択してください。","")
D39: =IF(S2=1,10,IF(S2=2,11,IF(S2=3,12,S2-3))) -> 2 | E39: =IF(S2=1,11,IF(S2=2,12,S2-2)) -> 3 | F39: =IF(S2=1,12,S2-1) -> 4 | I39: 合計 | M39: 区分 | AH39: 各区分の値とそれに基づく配置数 | AM39: 必要な配置数
A40: 利用者数 | D40: 80 | E40: 80 | F40: 81 | I40: =SUM(D40:F40) -> 241 | M40: ○ | N40: 常勤換算方法によらない場合 | Q40: サービス提供時間が450時間又はその端数を増すごとに1人以上 | AH40: =SUM(F32:AJ32) -> 490 | AJ40: h | AK40: =ROUNDUP(AH40/450,0) -> 2 | AM40: =MIN(AH40:AK42) -> 1
I41: （平均利用者数） | Q41: 従業者数が10人又はその端数を増すごとに1人以上 | AH41: =COUNTA(B12:B30) -> 9 | AJ41: 人 | AK41: =ROUNDUP(AH41/10,0) -> 1
I42: =I40/3 -> 80.333333 | Q42: 利用者数が40人又はその端数を増すごとに1人以上 | AH42: =ROUNDDOWN(I42,1) -> 80.3 | AJ42: 人 | AK42: =ROUNDUP(AH42/40,0) -> 3
N43: 常勤換算方法による場合 | AM43: {=ROUNDUP(_xlfn.IFS(AM40<2,1,AND(AM40<=2,AM40<6),AM40-1,AM40>=6,AM40/2*3),1)} -> 1
A45: ＜人員基準に関する実人数集計＞
C46: =IF(VLOOKUP($AK$1,選択肢!$A$1:$J$32,C51,FALSE)=0,"-",VLOOKUP($AK$1,選択肢!$A$1:$J$32,C51,FALSE)) -> 管理者 | E46: =IF(VLOOKUP($AK$1,選択肢!$A$1:$J$32,E51,FALSE)=0,"-",VLOOKUP($AK$1,選択肢!$A$1:$J$32,E51,FALSE)) -> サービス提供責任者 | I46: =IF(VLOOKUP($AK$1,選択肢!$A$1:$J$32,I51,FALSE)=0,"-",VLOOKUP($AK$1,選択肢!$A$1:$J$32,I51,FALSE)) -> 従業者
C47: 専従 | D47: 兼務 | E47: 専従 | F47: 兼務 | I47: 専従 | L47: 兼務
B48: 常勤 | C48: =COUNTIFS($B$11:$B$30,C$46,$C$11:$C$30,"A",$E$11:$E$30,"*") -> 1 | D48: =COUNTIFS($B$11:$B$30,C$46,$C$11:$C$30,"B",$E$11:$E$30,"*") -> 0 | E48: =COUNTIFS($B$11:$B$30,E$46,$C$11:$C$30,"A",$E$11:$E$30,"*") -> 0 | F48: =COUNTIFS($B$11:$B$30,E$46,$C$11:$C$30,"B",$E$11:$E$30,"*") -> 1 | I48: =COUNTIFS($B$11:$B$30,I$46,$C$11:$C$30,"A",$E$11:$E$30,"*") -> 0 | L48: =COUNTIFS($B$11:$B$30,I$46,$C$11:$C$30,"B",$E$11:$E$30,"*") -> 0
B49: 非常勤 | E49: =COUNTIFS($B$11:$B$30,E$46,$C$11:$C$30,"C",$E$11:$E$30,"*") -> 1 | F49: =COUNTIFS($B$11:$B$30,E$46,$C$11:$C$30,"D",$E$11:$E$30,"*") -> 0 | I49: =COUNTIFS($B$11:$B$30,I$46,$C$11:$C$30,"C",$E$11:$E$30,"*") -> 2 | L49: =COUNTIFS($B$11:$B$30,I$46,$C$11:$C$30,"D",$E$11:$E$30,"*") -> 5
B50: 常勤換算数 | E50: =IF($AK$3="４週",SUMIFS($AK$11:$AK$30,$B$11:$B$30,E46)/4/$AH$5,IF($AK$3="歴月",SUMIFS($AK$11:$AK$30,$B$11:$B$30,E46)/$AL$5,"記載する期間を選択してください")) -> 0 | I50: =IF($AK$3="４週",SUMIFS($AK$11:$AK$30,$B$11:$B$30,I46)/4/$AH$5,IF($AK$3="歴月",SUMIFS($AK$11:$AK$30,$B$11:$B$30,I46)/$AL$5,"記載する期間を選択してください")) -> 0
C51: 2 | E51: 3 | I51: 4 | O51: 5 | U51: 6 | AA51: 7 | AG51: 8 | AL51: 9
A52: ・最初に「年月欄」「サービス種別」「事業所名」を入力してください。 | R52: 6 | X52: 7 | AD52: 8 | AJ52: 9
A53: (1) 「４週」・「暦月」のいずれかを選択してください。
A54: (2) 「予定」・「実績」のいずれかを選択してください。
A55: (3) 事業所における常勤の従業者が勤務すべき時間数を入力してください。
A56: (4) 従業者の職種を入力してください。
A57: 記入の順序は、職種ごとにまとめてください。
A58: (5) 従業者の勤務形態について、下記のうち該当する区分の記号を入力してください。
B59: 記号 | C59: 区分
B60: A | C60: 常勤で専従
B61: B | C61: 常勤で兼務
B62: C | C62: 非常勤で専従
B63: D | C63: 非常勤で兼務
B64: （注）常勤・非常勤の区分について
B65: 当該事業所における勤務時間が、当該事業所において定められている常勤の従業者が勤務すべき時間数に達していることをいいます。雇用の形態は考慮しません。
B66: （例えば、常勤者は週に40時間勤務することとされた事業所であれば、非正規雇用であっても、週40時間勤務する従業者は常勤扱いとなります。）
A67: (6) 従業者の保有する資格を入力してください。
A68: 保有資格を全て記入するのではなく、人員基準上、求められる資格等を入力してください。
A69: ※選択した資格及び研修に関して、必要に応じて、資格証又は研修修了証等の写しを添付資料として提出してください。
A70: (7) 従業者の氏名を記入してください。
A71: (8) 申請する事業に係る従業者（管理者を含む。）の1ヶ月分の勤務時間を入力してください。
A72: (9) 常勤の職員の休暇等については、その期間が暦年で１月を超えるものでない限り、常勤換算の計算上は勤務したものとみなすことができます。
B73: その場合、勤務時間欄には「休」と記入し、勤務時間の合計に含めてください（非常勤職員の休暇等は常勤換算の計算に含めることはできません）。
B74: ※指定基準の確認に際しては、４週分の入力で差し支えありません。
A75: (10) 従業者ごとに、合計勤務時間数を入力してください。
A76: ※ 入力することができる時間数は、当該事業所において常勤の従業者が勤務すべき勤務時間数を上限とします。
A77: (11) 従業者ごとに、週平均の勤務時間数を入力してください。
A78: (12) 申請する事業所以外の事業所・施設との兼務がある場合は、兼務先の事業所・施設の名称、兼務する職務の内容について記入してください。
A79: 同一事業所内の兼務についても兼務する職務の内容を記入してください。
A80: その他、特記事項欄としてもご活用ください。
A81: （13)本表には計算式を設定していますが、結果に誤りがないかご確認ください。
A82: （14) 必要項目を満たしていれば、各事業所で使用するシフト表等をもって代替書類として差し支えありません。

Sheet 勤務形態一覧表（行動援護）
A1: 従業者の勤務の体制及び勤務形態一覧表 | AI1: サービス種別 | AK1: 行動援護
M2: 2024 | Q2: 年 | S2: 5 | U2: 月 | AI2: 事業所名
AI3: (1)記載する期間 | AK3: ４週
AI4: (2)予定/実績の別
AG5: (3)事業所における常勤の従業者が勤務すべき時間数 | AH5: 100 | AK5: 時間/週 | AM5: 時間/月
A7: No. | B7: (4)職種 | C7: (5)勤務形態 | D7: (6)資格 | E7: (7)氏名 | F7: (8) | AK7: (9)勤務時間数合計 | AL7: (10)週平均の勤務時間数 | AM7: (11)兼務状況 （兼務先／兼務する職務の内容）等
F8: 第１週 | M8: 第２週 | T8: 第３週 | AA8: 第４週 | AH8: 第５週
B9: ※選択肢にない職種については直接入力してください | F9: =DATE($M$2,$S$2,1) -> 45413 | G9: =DATE($M$2,$S$2,2) -> 45414 | H9: =DATE($M$2,$S$2,3) -> 45415 | I9: =DATE($M$2,$S$2,4) -> 45416 | J9: =DATE($M$2,$S$2,5) -> 45417 | K9: =DATE($M$2,$S$2,6) -> 45418 | L9: =DATE($M$2,$S$2,7) -> 45419 | M9: =DATE($M$2,$S$2,8) -> 45420 | N9: =DATE($M$2,$S$2,9) -> 45421 | O9: =DATE($M$2,$S$2,10) -> 45422 | P9: =DATE($M$2,$S$2,11) -> 45423 | Q9: =DATE($M$2,$S$2,12) -> 45424 | R9: =DATE($M$2,$S$2,13) -> 45425 | S9: =DATE($M$2,$S$2,14) -> 45426 | T9: =DATE($M$2,$S$2,15) -> 45427 | U9: =DATE($M$2,$S$2,16) -> 45428 | V9: =DATE($M$2,$S$2,17) -> 45429 | W9: =DATE($M$2,$S$2,18) -> 45430 | X9: =DATE($M$2,$S$2,19) -> 45431 | Y9: =DATE($M$2,$S$2,20) -> 45432 | Z9: =DATE($M$2,$S$2,21) -> 45433 | AA9: =DATE($M$2,$S$2,22) -> 45434 | AB9: =DATE($M$2,$S$2,23) -> 45435 | AC9: =DATE($M$2,$S$2,24) -> 45436 | AD9: =DATE($M$2,$S$2,25) -> 45437 | AE9: =DATE($M$2,$S$2,26) -> 45438 | AF9: =DATE($M$2,$S$2,27) -> 45439 | AG9: =DATE($M$2,$S$2,28) -> 45440 | AH9: =IF(DAY(EOMONTH(F9,0))<29,"",DATE($M$2,$S$2,29)) -> 45441 | AI9: =IF(DAY(EOMONTH(F9,0))<30,"",DATE($M$2,$S$2,30)) -> 45442 | AJ9: =IF(DAY(EOMONTH(F9,0))<31,"",DATE($M$2,$S$2,31)) -> 45443
F10: =DATE($M$2,$S$2,1) -> 45413 | G10: =DATE($M$2,$S$2,2) -> 45414 | H10: =DATE($M$2,$S$2,3) -> 45415 | I10: =DATE($M$2,$S$2,4) -> 45416 | J10: =DATE($M$2,$S$2,5) -> 45417 | K10: =DATE($M$2,$S$2,6) -> 45418 | L10: =DATE($M$2,$S$2,7) -> 45419 | M10: =DATE($M$2,$S$2,8) -> 45420 | N10: =DATE($M$2,$S$2,9) -> 45421 | O10: =DATE($M$2,$S$2,10) -> 45422 | P10: =DATE($M$2,$S$2,11) -> 45423 | Q10: =DATE($M$2,$S$2,12) -> 45424 | R10: =DATE($M$2,$S$2,13) -> 45425 | S10: =DATE($M$2,$S$2,14) -> 45426 | T10: =DATE($M$2,$S$2,15) -> 45427 | U10: =DATE($M$2,$S$2,16) -> 45428 | V10: =DATE($M$2,$S$2,17) -> 45429 | W10: =DATE($M$2,$S$2,18) -> 45430 | X10: =DATE($M$2,$S$2,19) -> 45431 | Y10: =DATE($M$2,$S$2,20) -> 45432 | Z10: =DATE($M$2,$S$2,21) -> 45433 | AA10: =DATE($M$2,$S$2,22) -> 45434 | AB10: =DATE($M$2,$S$2,23) -> 45435 | AC10: =DATE($M$2,$S$2,24) -> 45436 | AD10: =DATE($M$2,$S$2,25) -> 45437 | AE10: =DATE($M$2,$S$2,26) -> 45438 | AF10: =DATE($M$2,$S$2,27) -> 45439 | AG10: =DATE($M$2,$S$2,28) -> 45440 | AH10: =IF(DAY(EOMONTH(F10,0))<29,"",DATE($M$2,$S$2,29)) -> 45441 | AI10: =IF(DAY(EOMONTH(F10,0))<30,"",DATE($M$2,$S$2,30)) -> 45442 | AJ10: =IF(DAY(EOMONTH(F10,0))<31,"",DATE($M$2,$S$2,31)) -> 45443
A11: 1 | B11: 管理者 | C11: A | E11: A
A12: 2 | B12: サービス提供責任者 | C12: B | E12: B | AK12: =+SUM(F12:AJ12) -> 0 | AL12: =IF($AK$3="４週",AK12/4,AK12/(DAY(EOMONTH($F$9,0))/7)) -> 0
A13: 3 | B13: サービス提供責任者 | C13: C | E13: C | AK13: =+SUM(F13:AJ13) -> 0 | AL13: =IF($AK$3="４週",AK13/4,AK13/(DAY(EOMONTH($F$9,0))/7)) -> 0
A14: 4 | B14: 従業者 | C14: C | E14: D | AK14: =+SUM(F14:AJ14) -> 0 | AL14: =IF($AK$3="４週",AK14/4,AK14/(DAY(EOMONTH($F$9,0))/7)) -> 0
A15: 5 | B15: 従業者 | C15: C | E15: E | AK15: =+SUM(F15:AJ15) -> 0 | AL15: =IF($AK$3="４週",AK15/4,AK15/(DAY(EOMONTH($F$9,0))/7)) -> 0
A16: 6 | B16: 従業者 | C16: D | E16: F | AK16: =+SUM(F16:AJ16) -> 0 | AL16: =IF($AK$3="４週",AK16/4,AK16/(DAY(EOMONTH($F$9,0))/7)) -> 0
A17: 7 | B17: 従業者 | C17: D | E17: G | AK17: =+SUM(F17:AJ17) -> 0 | AL17: =IF($AK$3="４週",AK17/4,AK17/(DAY(EOMONTH($F$9,0))/7)) -> 0
A18: 8 | B18: 従業者 | C18: D | E18: H | AK18: =+SUM(F18:AJ18) -> 0 | AL18: =IF($AK$3="４週",AK18/4,AK18/(DAY(EOMONTH($F$9,0))/7)) -> 0
A19: 9 | B19: 従業者 | C19: D | E19: I | AK19: =+SUM(F19:AJ19) -> 0 | AL19: =IF($AK$3="４週",AK19/4,AK19/(DAY(EOMONTH($F$9,0))/7)) -> 0
A20: 10 | B20: 従業者 | C20: D | E20: J | AK20: =+SUM(F20:AJ20) -> 0 | AL20: =IF($AK$3="４週",AK20/4,AK20/(DAY(EOMONTH($F$9,0))/7)) -> 0
A21: 11 | AK21: =+SUM(F21:AJ21) -> 0 | AL21: =IF($AK$3="４週",AK21/4,AK21/(DAY(EOMONTH($F$9,0))/7)) -> 0
A22: 12 | AK22: =+SUM(F22:AJ22) -> 0 | AL22: =IF($AK$3="４週",AK22/4,AK22/(DAY(EOMONTH($F$9,0))/7)) -> 0
A23: 13 | AK23: =+SUM(F23:AJ23) -> 0 | AL23: =IF($AK$3="４週",AK23/4,AK23/(DAY(EOMONTH($F$9,0))/7)) -> 0
A24: 14 | AK24: =+SUM(F24:AJ24) -> 0 | AL24: =IF($AK$3="４週",AK24/4,AK24/(DAY(EOMONTH($F$9,0))/7)) -> 0
A25: 15 | AK25: =+SUM(F25:AJ25) -> 0 | AL25: =IF($AK$3="４週",AK25/4,AK25/(DAY(EOMONTH($F$9,0))/7)) -> 0
A26: 16 | AK26: =+SUM(F26:AJ26) -> 0 | AL26: =IF($AK$3="４週",AK26/4,AK26/(DAY(EOMONTH($F$9,0))/7)) -> 0
A27: 17 | AK27: =+SUM(F27:AJ27) -> 0 | AL27: =IF($AK$3="４週",AK27/4,AK27/(DAY(EOMONTH($F$9,0))/7)) -> 0
A28: 18 | AK28: =+SUM(F28:AJ28) -> 0 | AL28: =IF($AK$3="４週",AK28/4,AK28/(DAY(EOMONTH($F$9,0))/7)) -> 0
A29: 19 | AK29: =+SUM(F29:AJ29) -> 0 | AL29: =IF($AK$3="４週",AK29/4,AK29/(DAY(EOMONTH($F$9,0))/7)) -> 0
A30: 20 | AK30: =+SUM(F30:AJ30) -> 0 | AL30: =IF($AK$3="４週",AK30/4,AK30/(DAY(EOMONTH($F$9,0))/7)) -> 0
A31: 合計 | F31: =+SUM(F11:F30) -> 0 | G31: =+SUM(G11:G30) -> 0 | H31: =+SUM(H11:H30) -> 0 | I31: =+SUM(I11:I30) -> 0 | J31: =+SUM(J11:J30) -> 0 | K31: =+SUM(K11:K30) -> 0 | L31: =+SUM(L11:L30) -> 0 | M31: =+SUM(M11:M30) -> 0 | ... AJ31: =+SUM(AJ11:AJ30) -> 0 | AK31: =+SUM(F31:AJ31) -> 0 | AL31: =IF($AK$3="４週",AK31/4,AK31/(DAY(EOMONTH($F$9,0))/7)) -> 0
A32: サービス提供時間 | F32: 12 | G32: 20 | H32: 12 | I32: 20 | J32: 12 | K32: 20 | L32: 12 | M32: 20 | N32: 12 | O32: 20 | P32: 12 | Q32: 20 | R32: 12 | S32: 20 | T32: 12 | U32: 20 | V32: 12 | W32: 20 | X32: 12 | Y32: 20 | Z32: 12 | AA32: 20 | AB32: 12 | AC32: 20 | AD32: 12 | AE32: 20 | AF32: 12 | AG32: 20 | AH32: 12 | AI32: 20 | AJ32: 10
A37: ＜人員に関する基準＞
A38: （新規申請の場合は推定数） | M38: ○サービス提供責任者 | U38: =IF(COUNTIF(M40:M43,"○")>1,"いずれか１つを選択してください。","")
D39: =IF(S2=1,10,IF(S2=2,11,IF(S2=3,12,S2-3))) -> 2 | E39: =IF(S2=1,11,IF(S2=2,12,S2-2)) -> 3 | F39: =IF(S2=1,12,S2-1) -> 4 | I39: 合計 | M39: 区分 | AH39: 各区分の値とそれに基づく配置数 | AM39: 必要な配置数
A40: 利用者数 | D40: 80 | E40: 80 | F40: 81 | I40: =SUM(D40:F40) -> 241 | M40: ○ | N40: 常勤換算方法によらない場合 | Q40: サービス提供時間が450時間又はその端数を増すごとに1人以上 | AH40: =SUM(F32:AJ32) -> 490 | AJ40: h | AK40: =ROUNDUP(AH40/450,0) -> 2 | AM40: =MIN(AH40:AK42) -> 1
I41: （平均利用者数） | Q41: 従業者数が10人又はその端数を増すごとに1人以上 | AH41: =COUNTA(B12:B30) -> 9 | AJ41: 人 | AK41: =ROUNDUP(AH41/10,0) -> 1
I42: =I40/3 -> 80.333333 | Q42: 利用者数が40人又はその端数を増すごとに1人以上 | AH42: =ROUNDDOWN(I42,1) -> 80.3 | AJ42: 人 | AK42: =ROUNDUP(AH42/40,0) -> 3
N43: 常勤換算方法による場合 | AM43: {=ROUNDUP(_xlfn.IFS(AM40<2,1,AND(AM40<=2,AM40<6),AM40-1,AM40>=6,AM40/2*3),1)} -> 1
A45: ＜人員基準に関する実人数集計＞
C46: =IF(VLOOKUP($AK$1,選択肢!$A$1:$J$32,C51,FALSE)=0,"-",VLOOKUP($AK$1,選択肢!$A$1:$J$32,C51,FALSE)) -> 管理者 | E46: =IF(VLOOKUP($AK$1,選択肢!$A$1:$J$32,E51,FALSE)=0,"-",VLOOKUP($AK$1,選択肢!$A$1:$J$32,E51,FALSE)) -> サービス提供責任者 | I46: =IF(VLOOKUP($AK$1,選択肢!$A$1:$J$32,I51,FALSE)=0,"-",VLOOKUP($AK$1,選択肢!$A$1:$J$32,I51,FALSE)) -> 従業者
C47: 専従 | D47: 兼務 | E47: 専従 | F47: 兼務 | I47: 専従 | L47: 兼務
B48: 常勤 | C48: =COUNTIFS($B$11:$B$30,C$46,$C$11:$C$30,"A",$E$11:$E$30,"*") -> 1 | D48: =COUNTIFS($B$11:$B$30,C$46,$C$11:$C$30,"B",$E$11:$E$30,"*") -> 0 | E48: =COUNTIFS($B$11:$B$30,E$46,$C$11:$C$30,"A",$E$11:$E$30,"*") -> 0 | F48: =COUNTIFS($B$11:$B$30,E$46,$C$11:$C$30,"B",$E$11:$E$30,"*") -> 1 | I48: =COUNTIFS($B$11:$B$30,I$46,$C$11:$C$30,"A",$E$11:$E$30,"*") -> 0 | L48: =COUNTIFS($B$11:$B$30,I$46,$C$11:$C$30,"B",$E$11:$E$30,"*") -> 0
B49: 非常勤 | E49: =COUNTIFS($B$11:$B$30,E$46,$C$11:$C$30,"C",$E$11:$E$30,"*") -> 1 | F49: =COUNTIFS($B$11:$B$30,E$46,$C$11:$C$30,"D",$E$11:$E$30,"*") -> 0 | I49: =COUNTIFS($B$11:$B$30,I$46,$C$11:$C$30,"C",$E$11:$E$30,"*") -> 2 | L49: =COUNTIFS($B$11:$B$30,I$46,$C$11:$C$30,"D",$E$11:$E$30,"*") -> 5
B50: 常勤換算数 | E50: =IF($AK$3="４週",SUMIFS($AK$11:$AK$30,$B$11:$B$30,E46)/4/$AH$5,IF($AK$3="歴月",SUMIFS($AK$11:$AK$30,$B$11:$B$30,E46)/$AL$5,"記載する期間を選択してください")) -> 0 | I50: =IF($AK$3="４週",SUMIFS($AK$11:$AK$30,$B$11:$B$30,I46)/4/$AH$5,IF($AK$3="歴月",SUMIFS($AK$11:$AK$30,$B$11:$B$30,I46)/$AL$5,"記載する期間を選択してください")) -> 0
C51: 2 | E51: 3 | I51: 4 | O51: 5 | U51: 6 | AA51: 7 | AG51: 8 | AL51: 9
A52: ・最初に「年月欄」「サービス種別」「事業所名」を入力してください。 | R52: 6 | X52: 7 | AD52: 8 | AJ52: 9
A53: (1) 「４週」・「暦月」のいずれかを選択してください。
A54: (2) 「予定」・「実績」のいずれかを選択してください。
A55: (3) 事業所における常勤の従業者が勤務すべき時間数を入力してください。
A56: (4) 従業者の職種を入力してください。
A57: 記入の順序は、職種ごとにまとめてください。
A58: (5) 従業者の勤務形態について、下記のうち該当する区分の記号を入力してください。
B59: 記号 | C59: 区分
B60: A | C60: 常勤で専従
B61: B | C61: 常勤で兼務
B62: C | C62: 非常勤で専従
B63: D | C63: 非常勤で兼務
B64: （注）常勤・非常勤の区分について
B65: 当該事業所における勤務時間が、当該事業所において定められている常勤の従業者が勤務すべき時間数に達していることをいいます。雇用の形態は考慮しません。
B66: （例えば、常勤者は週に40時間勤務することとされた事業所であれば、非正規雇用であっても、週40時間勤務する従業者は常勤扱いとなります。）
A67: (6) 従業者の保有する資格を入力してください。
A68: 保有資格を全て記入するのではなく、人員基準上、求められる資格等を入力してください。
A69: ※選択した資格及び研修に関して、必要に応じて、資格証又は研修修了証等の写しを添付資料として提出してください。
A70: (7) 従業者の氏名を記入してください。
A71: (8) 申請する事業に係る従業者（管理者を含む。）の1ヶ月分の勤務時間を入力してください。
A72: (9) 常勤の職員の休暇等については、その期間が暦年で１月を超えるものでない限り、常勤換算の計算上は勤務したものとみなすことができます。
B73: その場合、勤務時間欄には「休」と記入し、勤務時間の合計に含めてください（非常勤職員の休暇等は常勤換算の計算に含めることはできません）。
B74: ※指定基準の確認に際しては、４週分の入力で差し支えありません。
A75: (10) 従業者ごとに、合計勤務時間数を入力してください。
A76: ※ 入力することができる時間数は、当該事業所において常勤の従業者が勤務すべき勤務時間数を上限とします。
A77: (11) 従業者ごとに、週平均の勤務時間数を入力してください。
A78: (12) 申請する事業所以外の事業所・施設との兼務がある場合は、兼務先の事業所・施設の名称、兼務する職務の内容について記入してください。
A79: 同一事業所内の兼務についても兼務する職務の内容を記入してください。
A80: その他、特記事項欄としてもご活用ください。
A81: （13)本表には計算式を設定していますが、結果に誤りがないかご確認ください。
A82: （14) 必要項目を満たしていれば、各事業所で使用するシフト表等をもって代替書類として差し支えありません。

Sheet 選択肢
A1: ！申請するサービス類型を選択してください | B1: 職種① | C1: 職種② | D1: 職種③ | E1: 職種④ | F1: 職種⑤ | G1: 職種⑥ | H1: 職種⑦ | I1: 職種⑧ | J1: 職種⑨ | K1: 職種⑩
A2: 居宅介護 | B2: 管理者 | C2: サービス提供責任者 | D2: 従業者
A3: 重度訪問介護 | B3: 管理者 | C3: サービス提供責任者 | D3: 従業者
A4: 同行援護 | B4: 管理者 | C4: サービス提供責任者 | D4: 従業者
A5: 行動援護 | B5: 管理者 | C5: サービス提供責任者 | D5: 従業者
A6: 療養介護 | B6: 管理者 | C6: サービス管理責任者 | D6: 医師 | E6: 看護職員 | F6: 生活支援員
A7: 生活介護 | B7: 管理者 | C7: サービス管理責任者 | D7: 医師 | E7: 看護職員 | F7: 理学療法士 | G7: 作業療法士 | H7: 言語聴覚士 | I7: 生活支援員
A8: 短期入所・併設型 | B8: 管理者 | C8: 生活支援員
A9: 短期入所・空床利用型 | B9: 管理者 | C9: 生活支援員
A10: 短期入所・単独型 | B10: 管理者 | C10: 生活支援員
A11: 重度障害者等包括支援 | B11: 管理者 | C11: サービス提供責任者 | D11: 従業者
A12: 共同生活援助・介護サービス包括型 | B12: 管理者 | C12: サービス管理責任者 | D12: 世話人 | E12: 生活支援員
A13: 共同生活援助・外部サービス利用型 | B13: 管理者 | C13: サービス管理責任者 | D13: 世話人
A14: 共同生活援助・日中サービス支援型 | B14: 管理者 | C14: サービス管理責任者 | D14: 世話人 | E14: 生活支援員 | F14: 夜間支援従事者
A15: 障害者支援施設 | B15: 管理者 | C15: サービス管理責任者 | D15: 医師 | E15: 看護職員 | F15: 理学療法士 | G15: 作業療法士 | H15: 言語聴覚士 | I15: 就労支援員 | J15: 職業指導員 | K15: 生活支援員
A16: 機能訓練 | B16: 管理者 | C16: サービス管理責任者 | D16: 看護職員 | E16: 理学療法士 | F16: 作業療法士 | G16: 言語聴覚士 | H16: 生活支援員
A17: 生活訓練 | B17: 管理者 | C17: サービス管理責任者 | D17: 地域移行支援員 | E17: 生活支援員
A18: 就労選択支援 | B18: 管理者 | C18: 就労選択支援員
A19: 就労移行支援 | B19: 管理者 | C19: サービス管理責任者 | D19: 就労支援員 | E19: 職業指導員 | F19: 生活支援員
A20: 認定指定就労移行支援 | B20: 管理者 | C20: サービス管理責任者 | D20: 職業指導員 | E20: 生活支援員
A21: 就労継続支援Ａ型・Ｂ型 | B21: 管理者 | C21: サービス管理責任者 | D21: 職業指導員 | E21: 生活支援員
A22: 一般相談支援事業 | B22: 管理者 | C22: 従業者
A23: 就労定着支援 | B23: 管理者 | C23: サービス管理責任者 | D23: 就労定着支援員
A24: 自立生活援助 | B24: 管理者 | C24: サービス管理責任者 | D24: 地域生活支援員
A25: 特定相談支援・障害児相談支援 | B25: 管理者 | C25: 相談支援専門員 | D25: 相談支援員
A26: 児童発達支援・放課後等デイサービス | B26: 管理者 | C26: 児童発達支援管理責任者 | D26: 児童指導員 | E26: 保育士 | F26: 機能訓練担当職員 | G26: 看護職員 | H26: その他職員
A27: 児童発達支援・主として重症心身障害児を対象とする場合 | B27: 管理者 | C27: 児童発達支援管理責任者 | D27: 嘱託医 | E27: 看護職員 | F27: 児童指導員 | G27: 保育士 | H27: 機能訓練担当職員 | I27: その他職員
A28: 児童発達支援・児童発達支援センターであるもの | B28: 管理者 | C28: 児童発達支援管理責任者 | D28: 嘱託医 | E28: 児童指導員 | F28: 保育士 | G28: 栄養士 | H28: 調理員 | I28: 機能訓練担当職員 | J28: 看護職員 | K28: その他職員
A29: 保育所等訪問支援 | B29: 管理者 | C29: 児童発達支援管理責任者 | D29: 訪問支援員
A30: 居宅訪問型児童発達支援 | B30: 管理者 | C30: 児童発達支援管理責任者 | D30: 訪問支援員
A31: 福祉型障害児入所施設 | B31: 管理者 | C31: 児童発達支援管理責任者 | D31: 医師 | E31: 看護職員 | F31: 児童指導員 | G31: 保育士 | H31: 栄養士 | I31: 調理員 | J31: 心理担当職員
A32: 医療型障害児入所施設 | B32: 児童発達支援管理責任者 | C32: 医師 | D32: 看護職員 | E32: 児童指導員 | F32: 保育士 | G32: 心理担当職員 | H32: 理学療法士又は作業療法士 | I32: 職業指導員
