Workbook

Sheet 担当者会実施後提出
B2: 松江市介護予防・日常生活支援総合事業 訪問型サービスＣ 個別アセスメント票 | AC2: 選択リスト
B3: 被保険者番号： | D3: 認定状況： | AC3: 事業対象者 | AD3: 要支援１ | AE3: 要支援２
B5: ふりがな | S5: 性別 | W5: 生年月日 | Y5: 年齢 | AC5: 理学療法士 | AD5: 作業療法士 | AE5: 言語聴覚士
B6: 氏 名
B7: 住 所 | D7: 松江市 | S7: 地区 | W7: 電話番号
B9: ケアマネジャーからの 依頼内容
B10: サービス 担当者会 本人・家族状況 家屋構造等 | D10: 開催日 | K10: 令和 年 月 日
D11: 参加者
D12: 【現状】
D14: 【本人の目標】※個別支援計画と一致させる
B16: アセスメント 支援方針 | D16: 【アセスメント内容】
B18: 3か月後の目標
B19: 個別支援計画 | D19: 【支援方針】※様式第2号個別支援計画と一致させる
B23: かかりつけ医 | D23: 医療機関名 | S23: 担当医
D24: 医師の指示事項
B25: ケアマネジャー | D25: 事業所名 | S25: 担当者名
B26: 専門職担当事業所 | D26: 事業所名/職種 | S26: 担当者名
B27: 訪問予定日 | C27: 1か月目 | E27: / | G27: ～ | I27: / | K27: 1回目 | M27: / | O27: 2回目 | Q27: / | S27: 3回目 | U27: / | W27: 4回目 | Y27: /
C28: 2か月目 | E28: / | G28: ～ | I28: / | K28: 1回目 | M28: / | O28: 2回目 | Q28: / | S28: 3回目 | U28: / | W28: 4回目 | Y28: /
C29: 3か月目 | E29: / | G29: ～ | I29: / | K29: 1回目 | M29: / | O29: 2回目 | Q29: / | S29: 3回目 | U29: / | W29: 4回目 | Y29: /

Sheet 初回訪問にて署名後提出
B2: 松江市介護予防・日常生活支援総合事業 訪問型サービスＣ 個別支援計画票
B4: 計画立案日 | C4: 年 月 日
B5: 計画期間 | C5: 年 月 日 | E5: 年 月 日
B7: ふりがな | C7: =担当者会実施後提出!D5 -> 0
B8: 対象者氏名 | C8: =担当者会実施後提出!D6 -> 0
B9: 計画作成 担当者 | C9: 所属 | E9: 氏名 | F9: 電話番号
C10: =担当者会実施後提出!K26 -> 0 | E10: =担当者会実施後提出!T26 -> 0
C11: =担当者会実施後提出!O26 -> 0
B13: 個別支援計画 | C13: ３か月後の目標
C14: =担当者会実施後提出!D18 -> 0
C15: 支援項目 | I15: □口腔機能向上 □栄養改善 □その他（ ）
C16: 運動器の機能向上 生活環境改善 コミュニケーション力の改善 口腔機能向上 栄養改善 その他（ ）
C17: 支援内容（具体的な支援内容）
C18: =担当者会実施後提出!D20 -> 0
C19: =担当者会実施後提出!D21 -> 0
C20: =担当者会実施後提出!D22 -> 0
B22: 実行や支援にあたって注意する事など
B23: =担当者会実施後提出!K24 -> 0
B27: 訪問の計画について説明を受け、内容について同意しました
B29: 年 月 日
C31: 説 明 者 | E31: =担当者会実施後提出!T26 -> 0
C33: 氏 名（自署）

Sheet 評価様式（P・O）（初回訪問・最終訪問にて記載し提出）
A1: 運動機能アセスメント票（PT・OT）
A2: ふりがな | C2: =担当者会実施後提出!D5 -> 0 | Q2: 記入者：
A3: 氏 名 | C3: =担当者会実施後提出!D6 -> 0 | Q3: 開始時： | U3: 年 | W3: 月 | Z3: 日
Q4: 終了時： | U4: 年 | W4: 月 | Z4: 日
A6: 質問事項 | Q6: 評価項目 | V6: 事前 | X6: 事後 | AD6: 入力項目
A7: 聞き取り項目 | B7: 1 | C7: あなたの現在の健康状態はいかがです | Q7: １ よい ２ まあよい ３ ふつう ４ あまりよくない ５ よくない | AD7: 0 | AE7: 1 | AF7: 2 | AG7: 3 | AH7: 4 | AI7: 5 | AJ7: 6 | AK7: 7 | AL7: 8 | AM7: 9 | AN7: 10
B8: 2 | C8: ウォーキング等の運動を週に1回以上していますか | Q8: １ はい ２ いいえ
B9: 3 | C9: 以前に比べて歩く速度が遅くなってきたと思います | Q9: １ はい ２ いいえ
A10: 基本チェックリスト(※1) | B10: 6 | C10: 階段や手すりや壁をつたわらずに昇っていますか | Q10: １ はい ２ いいえ
B11: 7 | C11: 椅子に座った状態から何もつかまらずに立ち上がっていますか | Q11: １ はい ２ いいえ
B12: 8 | C12: 15分位続けて歩いていますか | Q12: １ はい ２ いいえ
B13: 9 | C13: この1年間に転んだことがありますか | Q13: １ はい ２ いいえ
B14: 10 | C14: 転倒に対する不安は大きいですか | Q14: １ はい ２ いいえ
B15: 16 | C15: 週に１回以上は外出していますか | Q15: １ はい ２ いいえ
B16: 21 | C16: （ここ2週間）毎日の生活に充実感がない | Q16: １ はい ２ いいえ
B17: 22 | C17: （ここ2週間）これまで楽しんでやれていたことが楽しめなくなった | Q17: １ はい ２ いいえ
A18: ※１ 事前の欄には、申請時基本チェックリストの結果を転記する。
A20: 質問事項 | M20: 開始時 | T20: 終了時
A21: 体 格 | B21: 1 | C21: 身長 | S21: cm
B22: 2 | C22: 体重 | S22: kg | Z22: kg
A23: 運動機能 | B23: 3 | C23: 開眼片脚立ち | M23: １． | Q23: 秒： 右 左 | T23: １． | W23: 秒： 右 左
M24: ２． | Q24: 秒： 右 左 | T24: ２． | W24: 秒： 右 左
B25: 4 | C25: 5回立ち上がり | S25: 秒 | Z25: 秒
B26: 5 | C26: 握力 | S26: kg | Z26: kg
B27: 6 | C27: 下腿周囲長 | S27: cm | Z27: cm
A28: 生活状況等（※２） | B28: 7 | C28: 運動習慣（ウォーキング・テレビ体操など） | R28: 回/週 | X28: 回/週
B29: 8 | C29: 自宅の庭先や周囲に外出する頻度 | R29: 回/週 | X29: 回/週
B30: 9 | C30: 買い物など遠方に外出する頻度 | R30: 回/週 | X30: 回/週
B31: 10 | C31: 補助用具・代替用品の活用 | N31: 有 | R31: 無 | U31: 有 | X31: 無
M32: 使用用具等の名称 | T32: 使用用具等の名称
B34: 11 | C34: 自宅内の移動
M35: 難しい | R35: 楽にできる | T35: 難しい | X35: 楽にできる
B37: 12 | C37: 身の回りの行為の支障 （入浴、洗面、トイレ、食事、服の着脱など） | G37: 【具体的内容】
M38: 難しい | R38: 楽にできる | T38: 難しい | X38: 楽にできる
G40: 【具体的内容】
M41: 難しい | R41: 楽にできる | T41: 難しい | X41: 楽にできる
B43: 13 | C43: 家事や 家の中の仕事 の支障 | G43: 【具体的内容】
M44: 難しい | R44: 楽にできる | T44: 難しい | X44: 楽にできる
G46: 【具体的内容】
M47: 難しい | R47: 楽にできる | T47: 難しい | X47: 楽にできる
B49: 14 | C49: 体の痛みの程度 （0～10で評価） | G49: 【部位等】
G51: 【部位等】
A53: ※２ 質問8～11は、利用者本人の主観を記載する。質問14は「Numerical Rating Scale」を用い、0（全く痛みなし）～10（耐えられない痛み）の11段階で評価する。
A55: 目標の達成状況 （※計画書の目標参照） | C55: 達成 未達成 | F55: 評価 コメント
F57: 今後の目標
A58: インフォーマルサービス （ 活動 ・ 参加 ・ 役割 ）
A60: 介護保険サービス等 | C60: 改善により終了 一般介護予防事業 （ もともと利用 ・ 期間中開始 ・ 終了後予定 ） 【 なごやか寄り合い ・ からだ元気塾 ・ 歯つらつ健口教室】 福祉用具貸与 （ もともと利用 ・ 期間中開始 ・ 終了後予定 ） 【 】 通所サービス （ もともと利用 ・ 期間中開始 ・ 終了後予定 ） 【 】 訪問サービス （ もともと利用 ・ 期間中開始 ・ 終了後予定 ） 【 】
A64: 介護保険サービス等 | D64: 改善により終了 | O64: 【 | Z64: 】
D65: 一般介護予防事業 ( もともと利用 期間中開始 終了後予定） | O65: 【 | P65: からだ元気塾 なごやか寄り合い 歯つらつ健口教室 | Z65: 】
D66: 福祉用具貸与 ( もともと利用 期間中開始 終了後予定） | O66: 【 | Z66: 】
D67: 通所サービス ( もともと利用 期間中開始 終了後予定） | O67: 【 | Z67: 】
D68: 訪問サービス ( もともと利用 期間中開始 終了後予定） | O68: 【 | Z68: 】

Sheet 評価様式（S)（初回訪問・最終訪問にて記載し提出）
A1: 口腔機能・コミュニケーションアセスメント票（ST）
A2: ふりがな | C2: =担当者会実施後提出!D5 -> 0 | Q2: 記入者： | S2: =担当者会実施後提出!W26 -> 0
A3: 氏 名 | C3: =担当者会実施後提出!D6 -> 0 | Q3: 開始時： | U3: 年 | W3: 月 | Z3: 日
Q4: 終了時： | U4: 年 | W4: 月 | Z4: 日
A6: 質問事項 | Q6: 評価項目 | V6: 開始時 | X6: 終了時 | AD6: 入力項目
A7: 聞き取り項目 | B7: 1 | C7: あなたの現在の健康状態はいかがです | Q7: １ よい ２ まあよい ３ ふつう ４ あまりよくない ５ よくない | AD7: 0 | AE7: 1 | AF7: 2 | AG7: 3 | AH7: 4 | AI7: 5 | AJ7: 6 | AK7: 7 | AL7: 8 | AM7: 9 | AN7: 10
B8: 2 | C8: ウォーキング等の運動を週に1回以上していますか | Q8: １ はい ２ いいえ
B9: 3 | C9: 以前に比べて歩く速度が遅くなってきたと思います | Q9: １ はい ２ いいえ
B10: 4 | C10: 自身の歯は何本ありますか（インプラントは不可） | Q10: １ 0～19本 ２ 20本以上
B11: 5 | C11: 普段の会話で、はっきりと発音できないことがありますか | Q11: １ はい ２ いいえ
A12: 基本チェックリスト（※１） | B12: 11 | C12: 6か月間で2～3Kg以上の体重減少がありましたか | Q12: １ はい ２ いいえ
B13: 12 | C13: 身長 | G13: 体重 | K13: BMI | Q13: １ 該当 ２ 非該当
B14: 13 | C14: 半年前に比べて固いものがたべにくくなりましたか | Q14: １ はい ２ いいえ
B15: 14 | C15: お茶や汁物等でむせることがありますか | Q15: １ はい ２ いいえ
B16: 15 | C16: 口の渇きが気になりますか | Q16: １ はい ２ いいえ
B17: 21 | C17: （ここ2週間）毎日の生活に充実感がない | Q17: １ はい ２ いいえ
B18: 22 | C18: （ここ2週間）これまで楽しんでやれていたことが楽しめなくなった
A19: ※１ 事前の欄には、基本チェックリストの結果を転記する。
A21: 質問事項 | M21: 開始時 | T21: 終了時
A22: 運動機能 | B22: 1 | C22: 反復唾液嚥下テスト（RSST) | Q22: 回／30秒 | W22: 回／30秒
B23: 2 | C23: オーラルディアドコキネシス | K23: （パ） | Q23: 回／毎秒 | W23: 回／毎秒
K24: （タ） | Q24: 回／毎秒 | W24: 回／毎秒
K25: （カ） | Q25: 回／毎秒 | W25: 回／毎秒
B26: 3 | C26: 握力 | S26: kg | Z26: kg
A27: 生活状況等（※２） | B27: 4 | C27: 歯磨き、又は義歯の手入れの回数 | Q27: 回／日 | W27: 回／日
B28: 5 | C28: 食べ物や薬が飲み込みにくい時がありますか
M30: よくある | Q30: ない | T30: よくある | W30: ない
B31: 6 | C31: 話す時に舌がまわらないことがありますか
M33: よくある | Q33: ない | T33: よくある | W33: ない
B34: 7 | C34: 口から食物がこぼれることがありますか
M36: よくある | Q36: ない | T36: よくある | W36: ない
B37: 8 | C37: 食後に口の中に食べ物が残りやすいですか
M39: よくある | Q39: ない | T39: よくある | W39: ない
A40: コミュニケーション機能(※２) | B40: 9 | C40: 会話の聞き取りが難しいことがありますか
M42: 多い | Q42: ない | T42: 多い | W42: ない
B43: 10 | C43: 言葉がまとまらないことがありますか
M45: 多い | Q45: ない | T45: 多い | W45: ない
B46: 11 | C46: 会話に関するストレスを感じることがありますか
M48: 多い | Q48: ない | T48: 多い | W48: ない
C49: ▶ どんな時によく感じますか
B50: 12 | C50: （ここ1～2か月）家族、友人との会話の頻度
M52: 減った | Q52: 増えた | T52: 減った | W52: 増えた
A53: ※２ 質問４～１３は、利用者本人の主観を記載する。
A55: 目標の達成状況 （※計画書の目標参照） | C55: 達成 未達成 | F55: 評価 コメント
F57: 今後の目標
A58: インフォーマルサービス （ 活動 ・ 参加 ・ 役割 ）
A60: 介護保険サービス等 | C60: 改善により終了 一般介護予防事業 （ もともと利用 ・ 期間中開始 ・ 終了後予定 ） 【 なごやか寄り合い ・ からだ元気塾 ・ 歯つらつ健口教室】 福祉用具貸与 （ もともと利用 ・ 期間中開始 ・ 終了後予定 ） 【 】 通所サービス （ もともと利用 ・ 期間中開始 ・ 終了後予定 ） 【 】 訪問サービス （ もともと利用 ・ 期間中開始 ・ 終了後予定 ） 【 】
A64: 介護保険サービス等 | D64: 改善により終了 | O64: 【 | P64: あいうえお | Z64: 】
D65: 一般介護予防事業 ( もともと利用 期間中開始 終了後予定） | O65: 【 | P65: からだ元気塾 なごやか寄り合い 歯つらつ健口教室 | Z65: 】
D66: 福祉用具貸与 ( もともと利用 期間中開始 終了後予定） | O66: 【 | P66: いす、べっど | Z66: 】
D67: 通所サービス ( もともと利用 期間中開始 終了後予定） | O67: 【 | P67: 〇〇デイサービスに週１ | Z67: 】
D68: 訪問サービス ( もともと利用 期間中開始 終了後予定） | O68: 【 | P68: 訪問サービスCを4月から開始 | Z68: 】

Sheet 経過報告（訪問後毎回記載、毎月提出）
A1: 訪問指導記録・経過記録票
B3: 対象者氏名 | C3: =担当者会実施後提出!D6 -> 0
B5: 3か月後の目標 | C5: =担当者会実施後提出!D18 -> 0
A7: 1か月目 | C7: 第1回 | J7: 第2回
B8: 実施日 | C8: 令和 年 月 日 | J8: 令和 年 月 日
B9: 開始・終了時間 | D9: ： | F9: ～ | H9: ： | K9: ： | M9: ～ | O9: ：
B10: 血圧 ・脈拍 | D10: ／ | F10: ｍｍHg | I10: 回／分 | K10: ／ | M10: ｍｍHg | P10: 回／分
B11: 現状・ 前回からの変化
B12: 課題・改善点 指導内容等
B13: 特記事項
B14: 担当職種・氏名
C15: 第3回 | J15: 第4回
B16: 実施日 | C16: 令和 年 月 日 | J16: 令和 年 月 日
B17: 開始・終了時間 | D17: ： | F17: ～ | H17: ： | K17: ： | M17: ～ | O17: ：
B18: 血圧 ・脈拍 | D18: ／ | F18: ｍｍHg | I18: 回／分 | K18: ／ | M18: ｍｍHg | P18: 回／分
B19: 現状・ 前回からの変化
B20: 課題・改善点 指導内容等
B21: 特記事項
B22: 担当職種・氏名
A23: 2か月目 | C23: 第5回 | J23: 第6回
B24: 実施日 | C24: 令和 年 月 日 | J24: 令和 年 月 日
B25: 開始・終了時間 | D25: ： | F25: ～ | H25: ： | K25: ： | M25: ～ | O25: ：
B26: 血圧 ・脈拍 | D26: ／ | F26: ｍｍHg | I26: 回／分 | K26: ／ | M26: ｍｍHg | P26: 回／分
B27: 現状・ 前回からの変化
B28: 課題・改善点 指導内容等
B29: 特記事項
B30: 担当職種・氏名
A31: 3か月目 | C31: 第７回 | J31: 第８回
B32: 実施日 | C32: 令和 年 月 日 | J32: 令和 年 月 日
B33: 開始・終了時間 | D33: ： | F33: ～ | H33: ： | K33: ： | M33: ～ | O33: ：
B34: 血圧 ・脈拍 | D34: ／ | F34: ｍｍHg | I34: 回／分 | K34: ／ | M34: ｍｍHg | P34: 回／分
B35: 現状・ 前回からの変化
B36: 課題・改善点 指導内容等
B37: 特記事項 | J37: 測定結果は評価票参照
B38: 担当職種・氏名

Sheet 実績報告書
A2: 訪問型サービスＣ実績報告書
A4: 令和 | C4: 年 | E4: 月分
A7: 利用者氏名 | C7: =担当者会実施後提出!D6 -> 0 | F7: 被保険者番号 | H7: =担当者会実施後提出!C3 -> 0 | J7: 認定区分 | K7: =担当者会実施後提出!K3 -> 0
A10: 開催・訪問日 | C10: サービス内容 | F10: 訪問者名 | H10: 職種 | J10: 委託先 | L10: 備考
A11: =担当者会実施後提出!K10 -> 令和 年 月 日 | C11: １．サービス担当者会 | F11: =担当者会実施後提出!T25 -> 0 | H11: 介護支援専門員 | J11: =担当者会実施後提出!K25 -> 0
F12: =担当者会実施後提出!T26 -> 0 | H12: =担当者会実施後提出!O26 -> 0 | J12: =担当者会実施後提出!K26 -> 0
A13: =IF('経過報告（訪問後毎回記載、毎月提出）'!C8="令和 年 月 日","",'経過報告（訪問後毎回記載、毎月提出）'!C8) | F13: ='経過報告（訪問後毎回記載、毎月提出）'!E14 -> 0 | H13: ='経過報告（訪問後毎回記載、毎月提出）'!C14 -> 0
F14: ='経過報告（訪問後毎回記載、毎月提出）'!E15 -> 0
A15: =IF('経過報告（訪問後毎回記載、毎月提出）'!J8="令和 年 月 日","",'経過報告（訪問後毎回記載、毎月提出）'!J8) | F15: ='経過報告（訪問後毎回記載、毎月提出）'!L14 -> 0 | H15: ='経過報告（訪問後毎回記載、毎月提出）'!J14 -> 0
F16: ='経過報告（訪問後毎回記載、毎月提出）'!E17 -> 0
A17: =IF('経過報告（訪問後毎回記載、毎月提出）'!C16="令和 年 月 日","",'経過報告（訪問後毎回記載、毎月提出）'!C16) | F17: ='経過報告（訪問後毎回記載、毎月提出）'!E22 -> 0 | H17: ='経過報告（訪問後毎回記載、毎月提出）'!C22 -> 0
F18: ='経過報告（訪問後毎回記載、毎月提出）'!E19 -> 0
A19: =IF('経過報告（訪問後毎回記載、毎月提出）'!J16="令和 年 月 日","",'経過報告（訪問後毎回記載、毎月提出）'!J16) | F19: ='経過報告（訪問後毎回記載、毎月提出）'!L22 -> 0 | H19: ='経過報告（訪問後毎回記載、毎月提出）'!J22 -> 0
F20: ='経過報告（訪問後毎回記載、毎月提出）'!E21 -> 0
A21: =IF('経過報告（訪問後毎回記載、毎月提出）'!C24="令和 年 月 日","",'経過報告（訪問後毎回記載、毎月提出）'!C24) | F21: ='経過報告（訪問後毎回記載、毎月提出）'!E30 -> 0 | H21: ='経過報告（訪問後毎回記載、毎月提出）'!C30 -> 0
F22: ='経過報告（訪問後毎回記載、毎月提出）'!E23 -> 0
A23: =IF('経過報告（訪問後毎回記載、毎月提出）'!J24="令和 年 月 日","",'経過報告（訪問後毎回記載、毎月提出）'!J24) | F23: ='経過報告（訪問後毎回記載、毎月提出）'!L30 -> 0 | H23: ='経過報告（訪問後毎回記載、毎月提出）'!J30 -> 0
F24: ='経過報告（訪問後毎回記載、毎月提出）'!E25 -> 0
A25: =IF('経過報告（訪問後毎回記載、毎月提出）'!C32="令和 年 月 日","",'経過報告（訪問後毎回記載、毎月提出）'!C32&'経過報告（訪問後毎回記載、毎月提出）'!E32&'経過報告（訪問後毎回記載、毎月提出）'!F32&'経過報告（訪問後毎回記載、毎月提出）'!H32) | F25: ='経過報告（訪問後毎回記載、毎月提出）'!E38 -> 0 | H25: ='経過報告（訪問後毎回記載、毎月提出）'!C38 -> 0
F26: ='経過報告（訪問後毎回記載、毎月提出）'!E27 -> 0
A27: =IF('経過報告（訪問後毎回記載、毎月提出）'!J32="令和 年 月 日","",'経過報告（訪問後毎回記載、毎月提出）'!J32&'経過報告（訪問後毎回記載、毎月提出）'!L32&'経過報告（訪問後毎回記載、毎月提出）'!M32&'経過報告（訪問後毎回記載、毎月提出）'!O32) | F27: ='経過報告（訪問後毎回記載、毎月提出）'!L38 -> 0 | H27: ='経過報告（訪問後毎回記載、毎月提出）'!J38 -> 0
F28: ='経過報告（訪問後毎回記載、毎月提出）'!E29 -> 0
