Workbook

Sheet 表紙
B2: 令和 | C2: 8 | D2: 年度
B3: 乳児等通園支援事業 監査調書
C4: 区分
B5: 設置者名
B6: 施設名
B7: 施設所在市町村
B8: 施設所在地
B9: 施設長名
B10: 電話番号
B11: Ｆ Ａ Ｘ
B12: メールアドレス
B13: 記入者職名・氏名
B16: 以下の書類を添付してください。(データによる提出も可) | E16: 添付の有無
B17: ◇保育所等台帳 ※前年度から内容に変更があった場合
B18: ◇建物の平面図 ※前年度から内容に変更があった場合
B19: ="◇"&表紙!B2&DBCS(表紙!C2-1)&"年度保育所収支決算関係書類の写し(決算附属明細書を含む）" -> ◇令和７年度保育所収支決算関係書類の写し(決算附属明細書を含む）
B20: ="◇"&表紙!B2&DBCS(表紙!C2)&"年度保育所収支予算書の写し" -> ◇令和８年度保育所収支予算書の写し
B21: ◇業務分担表（事務分掌）
B22: ◇勤務ローテーション表（監査前月分）
B23: ＊各勤務区分の時間帯を明記したもの（「早番：7:00～16:00」など）
B24: ◇保育所（園）要覧・しおり等
B25: ◇職員名簿（別紙様式による） ＊臨時・パート職員を含む
B26: ◇調理の外部委託に係る契約書(該当保育所等のみ）
B27: ◇欠格事由に該当しない旨の誓約書
B28: （未提出の法人、理事長及び園長の変更があった法人）

Sheet 監査調書
A8: １ 運営・管理状況
A9: （１）運営規程（重要事項に関する規程）
B10: □運営規程(注)には、事業の目的や運営方針など、最低基準条例（市条例）及び運営基準条例（市条例）で定められた以下の内容が記載されているか
B12: (１)乳児等通園支援事業の目的及び運営の方針
B13: (２) その提供する乳児等通園支援の内容
B14: (３) 職員の職種、員数及び職務の内容
B15: (４) 乳児等通園支援の提供を行う日及び時間並びに提供を行わない日
B16: (５) 保護者から受領する費用の種類、支払を求める理由及びその額
B17: (６) 乳児及び幼児の区分ごとの利用定員
B18: (７) 乳児等通園支援事業の利用の開始及び終了に関する事項並びに利用に当たっての留意事項
B19: (８) 緊急時等における対応方法
B20: (９) 非常災害対策
B21: (10) 虐待の防止のための措置に関する事項
B22: (11) その他乳児等通園支援事業の運営に関する重要事項
... B27: □施設等の見やすい場所に、運営規程の概要、職員の勤務体制、利用者負担等、重要事項を掲示しているか。
A30: （２） 業務管理体制の整備 【一般型の場合のみ】
B31: □法令遵守責任者を選任し、市長等(注)に届け出ているか
B32: 法令遵守責任者 職名 | S32: 氏名
B33: (注)確認を受けている全ての教育・保育施設等が一の市町村区域に所在の場合は市町村長、2以上の都道府県に所在する場合は内閣総理大臣、その他の場合は知事あての届出
A36: （３） 事業計画書等の状況
B37: □事業計画書、予算書、事業報告書及び決算書はその他の事業と区分して作成されているか。
A39: ２ 事業実施体制及び状況
A40: （１）利用定員
B41: □1時間あたりの利用定員
H42: 46113
B43: ０歳児
B44: １歳児
B45: ２歳児
B47: □定員見直しの予定・考え方
A51: （２） 職員の配置状況 【一般型の場合のみ】
B52: □保育士を雇用する際に、保育士特定登録取消者管理システムのデータベースを活用しているか
B53: □データベースを活用する場合、採用責任者にIDを付与しているか
H54: ID付与者 | K54: 職名 | U54: 氏名
B55: □嘱託医及び嘱託歯科医を置いているか
B57: □保育士の勤務体制【監査前月現在の平均的配置】
B58: ＊次の書類を必ず添付すること。
B59: ①監査前月の勤務ローテーション表（勤務区分（早番、遅番など）ごとの始業、終業の時間を明記）
B60: ②監査前月１日現在の職員名簿（別紙様式による）
B61: □基準に基づく必要な保育士数が確保されているか。
B62: □資格を要する職員が資格要件を満たしているか。
...

Sheet 表１
B2: 【表１】
B3: ="（４）職員の充足状況（"&表紙!B2&DBCS(表紙!C2)&"年度の状況）" -> （４）職員の充足状況（令和８年度の状況） | J3: ★確認資料：事務日誌、児童出席簿、職員名簿、職員出勤簿、
K4: 勤務ローテーション表、給与台帳、保育士証
B5: ◎定 員 | D5: 12 | F5: 名
B7: ◎（表１）児童数と保育士定数（児童数は、年度当初における年齢により記入してください｡)
C8: 区 分 | F8: 配置基準 | G8: =表紙!B2&DBCS(表紙!C2)&"年４月１日現在" -> 令和８年４月１日現在 | M8: 監査前月 | P8: 1 | Q8: 月１日現在
G9: 児童数（人） | K9: 保育士 （人） | M9: 児童数（人） | S9: 保育士 （人）
G10: 標準時間 認定 | H10: 短時間 認定 | I10: １号 | K10: 定数 | M10: 標準時間 認定 | O10: 短時間 認定 | Q10: １号 | S10: 定数
C11: 乳児 | F11: ３:１ | G11: 2 | K11: =ROUNDDOWN((SUM($G11:$J11))/3,1) -> 0.6 | M11: 5 | S11: =ROUNDDOWN((SUM(M11:R11))/3,1) -> 1.6
C12: １歳児 | F12: ６:１ | G12: 1 | K12: =ROUNDDOWN((SUM($G12:$J13))/6,1) -> 0.8 | M12: 5 | S12: =ROUNDDOWN((SUM($M12:$R13))/6,1) -> 1.3
C13: ２歳児 | G13: 4 | M13: 3
C14: ３歳児 | F14: 15 :１ | K14: =ROUNDDOWN((SUM($G14:$J14))/15,1) -> 0 | S14: =ROUNDDOWN((SUM(M14:R14))/15,1) -> 0
C15: ４歳以上児 | F15: 25 :１ | K15: =ROUNDDOWN((SUM($G15:$J15))/25,1) -> 0 | S15: =ROUNDDOWN((SUM(M15:R15))/25,1) -> 0
C16: 質の向上を図るための保育士等 | F16: 1人 | K16: 1 | S16: 1
C17: 小計(注１) | G17: =SUM(G$11:G$16) -> 7 | H17: =SUM(H$11:H$16) -> 0 | I17: =SUM(I11:J16) -> 0 | K17: =ROUND(SUM(K11:L16),0) -> 2 | M17: =SUM(M11:N16) -> 13 | N17: =IF(SUM(N$11:N$15)=0,"",SUM(N$11:N$15)) | O17: =SUM(O11:P16) -> 0 | P17: =IF(SUM(P$11:P$15)=0,"",SUM(P$11:P$15)) | Q17: =SUM(Q11:R16) -> 0 | R17: =IF(SUM(R$11:R$15)=0,"",SUM(R$11:R$15)) | S17: =ROUND(SUM(S11:T16),0) -> 4
C18: 下記に該当する場合は保育士定数に加えて保育士数を計上 | K18: 保育士 （人） | S18: 保育士 （人）
C19: 加配 | D19: 休憩保育士 １人 ※非常勤職員でも可 | K19: 1 | S19: 1
D20: 標準時間認定を受けた子どもが利用 １人 ※非常勤職員でも可 | K20: 1 | S20: 1
C22: 計 | K22: =SUM(K17,K19:L21) -> 4 | S22: =SUM(S17,S19:T21) -> 6
C23: （注１）小計の算出にあたり、年齢区分ごとの児童数を基準で割って１人未満の端数が生じるとき、年齢区分ごとにそれぞれ少数点第１位まで計算し（少数点第２位切捨て）、合算した値の少数点第１位を四捨五入する。
C24: 【根拠】 平成28年8月23日府子本第571号「特定教育・保育等に要する費用の額の算定に関する基準等の実施上の留意事項について」（国通知）の別紙６のⅡの１（２）「ここでいう「4歳以上児」、「3歳児」、「1、2歳児」及び「乳児」とは、年度の初日の前日における満年齢によるものであること。」
C26: ◎上記のほか補助金の要件等により配置する必要のある職員
C27: 下記に該当する場合は保育士数等を計上 | I27: =表紙!B2&DBCS(表紙!C2)&"年４月１日現在" -> 令和８年４月１日現在 | O27: =M8&DBCS(P8)&Q8 -> 監査前月１月１日現在
I28: 保育士 | L28: その他 | O28: 保育士 | R28: その他
C29: 病児保育事業 病児対応型・病後児対応型 看護師等（利用児童おおむね10人につき１人） 保育士（利用児童おおむね３人につき１人） 体調不良児対応型：看護師等１名以上
C30: 一時預かり事業 | L30: 1 | R30: 0
C31: 地域子育て支援拠点事業※保育士資格の有無及び常勤・非常勤は問わない 一般型専任２名以上 連携型専任１名以上
C32: 県単一時保育事業 保育士１名以上 ※常勤・非常勤は問わない
C33: 計 | I33: =SUM(I29:K32) -> 0 | L33: =SUM(L29:N32) -> 1 | N33: =IF(SUM(N$29:O$32)=0,"",SUM(N$29:O$32)) | O33: =SUM(O29:Q32) -> 0 | P33: =IF(SUM(P$29:Q$32)=0,"",SUM(P$29:Q$32)) | R33: =SUM(R29:T32) -> 0

Sheet 表２
C3: 【表２】
C4: ="（４）職員の充足状況（"&表紙!B2&DBCS(表紙!C2)&"年度の状況）" -> （４）職員の充足状況（令和８年度の状況）
C6: ="◎職員配置状況【監査前月 "&DBCS(表１!P8)&"月１日現在】 ※休業中の職員は除く" -> ◎職員配置状況【監査前月 １月１日現在】 ※休業中の職員は除く
E7: ①保育士 | F7: ②看護師・保健師・准看護師（みなし保育士とする場合であり、常勤換算１人まで可） | G7: 保育士配置の特例（注４） | I7: 保育士資格のない所長・その他職員 | J7: 調理員
G8: ③幼稚園教諭・小学校教諭・養護教諭（特例により配置基準上の人数に充てる場合） | H8: ④常勤２年相当の保育業務従事経験がある子育て支援員(注１)・家庭的保育者
E9: 人 | F9: 人 | G9: 人 | H9: 人 | I9: 人 | J9: 人
C10: 管理者 | D10: 民設保育所で、所長設置加算適用の 管理者又は公設保育所で、職務に保育 の割り当てがない管理者 (A1） | E10: 1
D11: 上記以外の管理者 （A2） | E11: 0
C12: 各職種の総人数((A1),(A2)を除く) (B) | E12: 4.59 | F12: 0.3 | G12: 0.5 | J12: 1.5
C13: (B)のうち病児保育事業担当者（職員配置の補助を受けている者） (C1) | E13: 0
C14: (B)のうち一時預かり事業担当者（職員配置の補助を受けている者） (C2) | E14: 0
C15: (B)のうち地域子育て支援拠点事業担当者（職員配置の補助を受けている者) (C3)
C16: (B)のうち県単一時保育事業担当者 （注２） （C4）
C17: (B)のうち県単障がい児保育事業担当者 （C5）
C18: (B)－(C1)－(C2)－(C3)－(C4)－(C5) （D） | E18: =E$12-E$13-E$14-E$15-E$16-E$17 -> 4.59 | F18: =F$12-F$13-F$14-F$15-F$16-F$17 -> 0.3 | G18: =G$12-G$13-G$14-G$15-G$16-G$17 -> 0.5 | H18: =H$12-H$13-H$14-H$15-H$16-H$17 -> 0 | I18: =I$12-I$13-I$14-I$15-I$16-I$17 -> 0 | J18: =J$12-J$13-J$14-J$15-J$16-J$17 -> 1.5
C19: (D)のうち常勤（注３）の職員数 （E） | E19: 4
C20: 非常勤職員 | D20: (D)のうち非常勤(注３)の職員数 (F） ※各職員の勤務時間について表３に記載 | E20: 2
D21: （F)の職員の常勤換算後人数 （G） 【①保育士②看護師等③教諭の計】 | E21: （表３）の（N）から転記
E22: =表３!J32 -> 1
D23: （F)の職員の常勤換算後人数 （H） 【①②③及び④常勤２年支援員等】 | E23: （表３）の（O）から転記
E24: =表３!J38 -> 1
C25: (表1)の保育士定数（P)と比較する職員数 ①②③に係る(A2)＋(E)＋(G) （I） | E25: =SUM(E11:G11,E19:G19,E22) -> 5
C26: (表1)の保育士定数（Q)と比較する職員数 ①②③④に係る(A2)＋(E)＋(H) (J) | E26: =SUM(E11:H11,E19:H19,E24) -> 5
C28: （注１） 保育士配置の特例の対象となる子育て支援員は、子育て支援員研修のうち地域保育コースの選択科目「地域型保育」又は「一時 預かり事業」の修了者である。
C29: （注２） 県単一時保育事業については、最低基準条例第29条第2項の規定に基づき、対象児童の年齢及び人数に応じて、本事業を担当する 保育士を配置すること。ただし、年間の平均利用児童数が1名を下回る場合には、条例第29条第2項及びその他の補助金等の職員配 置基準を超えた保育士が配置されていれば、本事業を担当する保育士が配置されていなくても差し支えない。
C30: （注３） 常勤は、常用労働者のことであり、正規、嘱託、臨時など雇用の形態は問わない。非常勤は、パートタイマー等短時間勤務の保育 士や常勤の保育士以外の保育士のことをいう。
C31: （注４） 小規模保育事業A型及び保育所事業内保育事業所のみ特例を適応することができる。 【根拠】家庭的保育事業等の設備及び運営に関する基準 附則第7条

Sheet 表３
C3: 【表３】
C4: ="（４）職員の充足状況（"&表紙!B2&DBCS(表紙!C2)&"年度の状況）" -> （４）職員の充足状況（令和８年度の状況）
C6: ="◎非常勤保育士等の常勤換算【監査前月 "&DBCS(表１!P8)&"月１日現在】" -> ◎非常勤保育士等の常勤換算【監査前月 １月１日現在】
C7: 職種等 （①～④） | D7: 職員番号・氏名(注) | F7: １日の勤務時間 | H7: × | I7: １ヶ月の勤務日数 | J7: １ヶ月の 勤務時間数合計
C8: ①保育士 | D8: 7 | E8: =IF(D8="","",INDEX('職員名簿（一般型の場合のみ）'!$E$8:$E$26,MATCH(D8,'職員名簿（一般型の場合のみ）'!$C$8:$C$26),0)) -> #N/A | F8: 4 | H8: × | I8: 20 | K8: =$F8*$I8 -> 80
D9: 8 | E9: =IF(D9="","",INDEX('職員名簿（一般型の場合のみ）'!$E$8:$E$26,MATCH(D9,'職員名簿（一般型の場合のみ）'!$C$8:$C$26),0)) -> #N/A | F9: 1 | H9: × | I9: 13 | K9: =$F9*$I9 -> 13
E10: =IF(D10="","",INDEX('職員名簿（一般型の場合のみ）'!$E$8:$E$26,MATCH(D10,'職員名簿（一般型の場合のみ）'!$C$8:$C$26),0)) | H10: × | K10: =$F10*$I10 -> 0
E11: =IF(D11="","",INDEX('職員名簿（一般型の場合のみ）'!$E$8:$E$26,MATCH(D11,'職員名簿（一般型の場合のみ）'!$C$8:$C$26),0)) | H11: × | K11: =$F11*$I11 -> 0
E12: =IF(D12="","",INDEX('職員名簿（一般型の場合のみ）'!$E$8:$E$26,MATCH(D12,'職員名簿（一般型の場合のみ）'!$C$8:$C$26),0)) | H12: × | K12: =$F12*$I12 -> 0
E13: =IF(D13="","",INDEX('職員名簿（一般型の場合のみ）'!$E$8:$E$26,MATCH(D13,'職員名簿（一般型の場合のみ）'!$C$8:$C$26),0)) | H13: × | K13: =$F13*$I13 -> 0
E14: =IF(D14="","",INDEX('職員名簿（一般型の場合のみ）'!$E$8:$E$26,MATCH(D14,'職員名簿（一般型の場合のみ）'!$C$8:$C$26),0)) | H14: × | K14: =$F14*$I14 -> 0
E15: =IF(D15="","",INDEX('職員名簿（一般型の場合のみ）'!$E$8:$E$26,MATCH(D15,'職員名簿（一般型の場合のみ）'!$C$8:$C$26),0)) | H15: × | K15: =$F15*$I15 -> 0
E16: =IF(D16="","",INDEX('職員名簿（一般型の場合のみ）'!$E$8:$E$26,MATCH(D16,'職員名簿（一般型の場合のみ）'!$C$8:$C$26),0)) | H16: × | K16: =$F16*$I16 -> 0
E17: =IF(D17="","",INDEX('職員名簿（一般型の場合のみ）'!$E$8:$E$26,MATCH(D17,'職員名簿（一般型の場合のみ）'!$C$8:$C$26),0)) | H17: × | K17: =$F17*$I17 -> 0
C18: ②看護師等 | D18: 12 | E18: =IF(D18="","",INDEX('職員名簿（一般型の場合のみ）'!$E$8:$E$26,MATCH(D18,'職員名簿（一般型の場合のみ）'!$C$8:$C$26),0)) -> #N/A | F18: 4 | H18: × | I18: 12 | K18: =$F18*$I18 -> 48
E19: =IF(D19="","",INDEX('職員名簿（一般型の場合のみ）'!$E$8:$E$26,MATCH(D19,'職員名簿（一般型の場合のみ）'!$C$8:$C$26),0)) | H19: × | K19: =$F19*$I19 -> 0
E20: =IF(D20="","",INDEX('職員名簿（一般型の場合のみ）'!$E$8:$E$26,MATCH(D20,'職員名簿（一般型の場合のみ）'!$C$8:$C$26),0)) | H20: × | K20: =$F20*$I20 -> 0
C21: ③幼稚園 教諭等 | D21: 9 | E21: =IF(D21="","",INDEX('職員名簿（一般型の場合のみ）'!$E$8:$E$26,MATCH(D21,'職員名簿（一般型の場合のみ）'!$C$8:$C$26),0)) -> #N/A | F21: 3 | H21: × | I21: 20 | K21: =$F21*$I21 -> 60
E22: =IF(D22="","",INDEX('職員名簿（一般型の場合のみ）'!$E$8:$E$26,MATCH(D22,'職員名簿（一般型の場合のみ）'!$C$8:$C$26),0)) | H22: × | K22: =$F22*$I22 -> 0
E23: =IF(D23="","",INDEX('職員名簿（一般型の場合のみ）'!$E$8:$E$26,MATCH(D23,'職員名簿（一般型の場合のみ）'!$C$8:$C$26),0)) | H23: × | K23: =$F23*$I23 -> 0
C24: ①～③小計 | J24: (K) | K24: =SUM($K$8:$K$23) -> 201
C25: ④子育て 支援員等 | E25: =IF(D25="","",INDEX('職員名簿（一般型の場合のみ）'!$E$8:$E$26,MATCH(D25,'職員名簿（一般型の場合のみ）'!$C$8:$C$26),0)) | H25: × | K25: =$F25*$I25 -> 0
E26: =IF(D26="","",INDEX('職員名簿（一般型の場合のみ）'!$E$8:$E$26,MATCH(D26,'職員名簿（一般型の場合のみ）'!$C$8:$C$26),0)) | H26: × | K26: =$F26*$I26 -> 0
E27: =IF(D27="","",INDEX('職員名簿（一般型の場合のみ）'!$E$8:$E$26,MATCH(D27,'職員名簿（一般型の場合のみ）'!$C$8:$C$26),0)) | H27: × | K27: =$F27*$I27 -> 0
C28: ①～④合計 | J28: (L) | K28: =SUM(K24,K25:K27) -> 201
B29: （注）①～④に記載する職員は、（表２）の(F）欄①～④に記載した非常勤職員となります。 「職員番号・氏名等」欄は、職員名簿と対応させてください。
C31: 常勤職員の１ヶ月 の勤務時間数 | E31: (M) | G31: ①②③に係る 常勤換算後の人数 ＝(K)÷(M) | J31: （小数点以下切り捨て）
E32: 160 | J32: =IF(E32="","",ROUNDDOWN(K24/E32,0)) -> 1
J36: (N)【(表２)の(G)に転記】
G37: ①②③④に係る 常勤換算後の人数 ＝(L)÷(M) | J37: （小数点以下切り捨て）
J38: =IF(E32="","",ROUNDDOWN(K28/E32,0)) -> 1
J42: (O)【(表２)の(H)に転記】

Sheet 表４（一般型の場合のみ）
A2: 【一般型の場合のみ】
B3: 【表４】
B4: （１）施設の面積基準の充足状況 ★保育所台帳、建物の平面図
C6: ○年齢区分ごとの面積基準及び施設の面積を記載してください。なお、2歳未満のうち、1.65㎡の人数は、｢ほふくに至ってない子｣の人数、3.3㎡の人数は｢ほふくしている子（歩いている子を含む）｣の人数を記入してください。
C9: ="【監査前月 "&DBCS(表１!P8)&"月１日現在】" -> 【監査前月 １月１日現在】
C10: 年齢区分 | E10: 面積基準による算定 | M10: 施設の面積(㎡)
E11: 基準値 (㎡) | H11: 利用定員(名) | K11: 面積 （㎡）
C12: 乳児 満２歳未満の幼児 | E12: 1.65 | G12: × | J12: ＝ | K12: =$E12*$H12 -> 0 | M12: 乳児室
E13: 3.3 | G13: × | J13: ＝ | K13: =$E13*$H13 -> 0 | M13: ほふく室
E14: 合計 | K14: =SUM($K$12:$L$13) -> 0 | M14: 合計 | P14: =SUM(P12:Q13) -> 0
C15: 満２歳以上の乳児 | E15: 1.98 | G15: × | J15: ＝ | K15: =$E15*$H15 -> 0 | M15: 保育室・遊戯室
E16: 3.3 | G16: × | J16: ＝ | K16: =$E16*$H16 -> 0 | M16: 屋外遊戯場
C17: 【根拠】 最低基準第44条（入所児童の満年齢に応じた乳児室、ほふく室、保育室及び遊戯室、屋外遊戯場の面積）

Sheet 職員名簿（一般型の場合のみ）
B1: 【一般型の場合のみ】
C3: 乳児等通園支援事業 職員名簿
C4: ="【監査前月 "&DBCS(表１!P8)&"月１日現在】" -> 【監査前月 １月１日現在】
C5: 整理 番号 | D5: 職名 | E5: 氏名 | F5: 専任/兼任 | G5: 「その他」の場合の業務 （具体的に） | H5: 資格名 | I5: 子育て支援員・家庭的保育者の場合の保育業務経験（常勤換算） | J5: 常勤・非常勤の別 | K5: 非常勤の場合の勤務時間数 | L5: 休業 （産休・育休等） | M5: 備 考
C6: 例 | D6: 保育士 | E6: 保育士A | F6: 専任 | H6: 保育士 | J6: 常勤
C7: 例 | D7: 保育助手 | E7: 保育助手B | F7: 兼任 | H7: 子育て支援員 | I7: ２年以上 | J7: 非常勤 | K7: 80
C8: =IF(E8="","",1)
C9: =IF(E9="","",C8+1)
C10: =IF(E10="","",C9+1)
C11: =IF(E11="","",C10+1)
C12: =IF(E12="","",C11+1)
C13: =IF(E13="","",C12+1)
C14: =IF(E14="","",C13+1)
C15: =IF(E15="","",C14+1)
C16: =IF(E16="","",#REF!+1)
C17: =IF(E17="","",C16+1)
C18: =IF(E18="","",C17+1)
C19: =IF(E19="","",C18+1)
C20: =IF(E20="","",C19+1)
C21: =IF(E21="","",C20+1)
C22: =IF(E22="","",C21+1)
C23: =IF(E23="","",C22+1)
C24: =IF(E24="","",C23+1)
C25: =IF(E25="","",C24+1)
C26: =IF(E26="","",C25+1)

Sheet date
A1: 表紙 | G1: 監査調書 | VD1: 表１ | YF1: 表２ | AAV1: 表３ | ABA1: 表４ | ABW1: 職員名簿
A2: 項目 | B2: =表紙!B6 -> 施設名 | C2: =表紙!B7 -> 施設所在市町村 | D2: =表紙!B8 -> 施設所在地 | E2: =表紙!B5 -> 設置者名 | F2: =表紙!B12 -> メールアドレス | G2: =監査調書!A8 -> １ 運営・管理状況 | AZ2: =監査調書!A39 -> ２ 事業実施体制及び状況 | CZ2: =監査調書!A109 -> ３ 安全管理の状況 【一般型の場合のみ】 | FP2: =監査調書!A200 -> ４ 保育の状況 | GY2: =監査調書!A225 -> ５ 健康管理の状況 | HS2: =監査調書!A254 -> ６ 給食の状況 ※該当項目のみ回答 【一般型の場合のみ】 | MO2: =監査調書!A339 -> ７ 会計経理 | MT2: =監査調書!A361 -> ８ 収入・支出手続 | NG2: =#REF! -> #REF! | NH2: =#REF! -> #REF! | NT2: =#REF! -> #REF! | TW2: =#REF! -> #REF! | VD2: =#REF! -> #REF! | VE2: =#REF! -> #REF! | VF2: =#REF! -> #REF! | YF2: =#REF! -> #REF! | AAV2: =表３!C6 -> ◎非常勤保育士等の常勤換算【監査前月 １月１日現在】 | ABA2: ='表４（一般型の場合のみ）'!B4 -> （１）施設の面積基準の充足状況 ★保育所台帳、建物の平面図 | ABW2: 1 | ACH2: =ABW2+1 -> 2 | ACS2: =ACH2+1 -> 3 | ADD2: =ACS2+1 -> 4 | ADO2: =ADD2+1 -> 5 | ADZ2: =ADO2+1 -> 6 | AEK2: =ADZ2+1 -> 7 | AEV2: =AEK2+1 -> 8 | AFG2: =AEV2+1 -> 9 | AFR2: =AFG2+1 -> 10 | AGC2: =AFR2+1 -> 11 | AGN2: =AGC2+1 -> 12 | AGY2: =AGN2+1 -> 13 | AHJ2: =AGY2+1 -> 14 | AHU2: =AHJ2+1 -> 15 | AIF2: =AHU2+1 -> 16 | AIQ2: =AIF2+1 -> 17 | AJB2: =AIQ2+1 -> 18 | AJM2: =AJB2+1 -> 19 | AJX2: =AJM2+1 -> 20 | AKI2: =AJX2+1 -> 21 | AKT2: =AKI2+1 -> 22 | ALE2: =AKT2+1 -> 23 | ALP2: =ALE2+1 -> 24 | AMA2: =ALP2+1 -> 25 | AML2: =AMA2+1 -> 26 | AMW2: =AML2+1 -> 27 | ANH2: =AMW2+1 -> 28 | ANS2: =ANH2+1 -> 29 | AOD2: =ANS2+1 -> 30 | AOO2: =AOD2+1 -> 31 | AOZ2: =AOO2+1 -> 32 | APK2: =AOZ2+1 -> 33 | APV2: =APK2+1 -> 34 | AQG2: =APV2+1 -> 35 | AQR2: =AQG2+1 -> 36 | ARC2: =AQR2+1 -> 37 | ARN2: =ARC2+1 -> 38 | ARY2: =ARN2+1 -> 39 | ASJ2: =ARY2+1 -> 40 | ASU2: =ASJ2+1 -> 41 | ATF2: =ASU2+1 -> 42 | ATQ2: =ATF2+1 -> 43 | AUB2: =ATQ2+1 -> 44 | AUM2: =AUB2+1 -> 45 | AUX2: =AUM2+1 -> 46 | AVI2: =AUX2+1 -> 47 | AVT2: =AVI2+1 -> 48 | AWE2: =AVT2+1 -> 49 | AWP2: =AWE2+1 -> 50 | AXA2: =AWP2+1 -> 51 | AXL2: =AXA2+1 -> 52 | AXW2: =AXL2+1 -> 53 | AYH2: =AXW2+1 -> 54 | AYS2: =AYH2+1 -> 55 | AZD2: =AYS2+1 -> 56 | AZO2: =AZD2+1 -> 57 | AZZ2: =AZO2+1 -> 58 | BAK2: =AZZ2+1 -> 59 | BAV2: =BAK2+1 -> 60 | BBG2: =BAV2+1 -> 61 | BBR2: =BBG2+1 -> 62 | BCC2: =BBR2+1 -> 63 | BCN2: =BCC2+1 -> 64 | BCY2: =BCN2+1 -> 65 | BDJ2: =BCY2+1 -> 66 | BDU2: =BDJ2+1 -> 67 | BEF2: =BDU2+1 -> 68 | BEQ2: =BEF2+1 -> 69 | BFB2: =BEQ2+1 -> 70 | BFM2: =BFB2+1 -> 71 | BFX2: =BFM2+1 -> 72 | BGI2: =BFX2+1 -> 73 | BGT2: =BGI2+1 -> 74 | BHE2: =BGT2+1 -> 75 | BHP2: =BHE2+1 -> 76 | BIA2: =BHP2+1 -> 77 | BIL2: =BIA2+1 -> 78 | BIW2: =BIL2+1 -> 79 | BJH2: =BIW2+1 -> 80 | BJS2: =BJH2+1 -> 81 | BKD2: =BJS2+1 -> 82 | BKO2: =BKD2+1 -> 83 | BKZ2: =BKO2+1 -> 84 | BLK2: =BKZ2+1 -> 85 | BLV2: =BLK2+1 -> 86 | BMG2: =BLV2+1 -> 87 | BMR2: =BMG2+1 -> 88 | BNC2: =BMR2+1 -> 89 | BNN2: =BNC2+1 -> 90 | BNY2: =BNN2+1 -> 91 | BOJ2: =BNY2+1 -> 92 | BOU2: =BOJ2+1 -> 93 | BPF2: =BOU2+1 -> 94 | BPQ2: =BPF2+1 -> 95 | BQB2: =BPQ2+1 -> 96 | BQM2: =BQB2+1 -> 97 | BQX2: =BQM2+1 -> 98 | BRI2: =BQX2+1 -> 99 | BRT2: =BRI2+1 -> 100
