Workbook

Sheet 様式第1号
P1: 【様式第１号】
A3: 誓 約 書
O4: 46303
A5: （あて先） 松 江 市 長
H7: 申 請 者
H8: 住 所
H9: 商号又は名称
H10: 代表者職氏名 | S10: ㊞
A12: 松江市（八束）コミュニティバス運行業務委託プロポーザルの参加にあたり、下記の
A13: 事項及び提出書類の内容について、事実に相違ないことを誓約します。
A14: 後日誓約した内容に違反する事実が判明した場合、もしくは応募受付後、審査・選定までの
A15: 間に誓約した内容に違反した場合は、無効又は失格とされても異議を申し立てません。
A17: 記
A19: （1）道路運送法第 4 条第 1 項の定めによる一般乗合旅客自動車運送事業の許可を受けている
A20: 者、又は運行開始日までに確実に許可を受けることができる者であり、運行開始までに運行
A21: に必要な手続きを確実に行える能力を有する者である。
A23: （2）地方自治法施行令（昭和22年政令第16号）第167条の4の規定に該当していない。
A25: （3）本市において、指名競争入札に関する指名を停止されていない。また、指名の停止を受け
A26: たが、すでにその停止期間を経過している。
A28: （4）令和7・8・9年度の松江市入札参加資格者名簿（物品）の業種「運送（旅客運送）」に登
... A39: 定する暴力団又は第 2 条第 6 号に規定する暴力団員が経営に関与していない。

Sheet 様式第2号
P1: 【様式第２号】
A3: 松江市（八束）コミュニティバス運行業務委託「プロポーザル」
A4: 参 加 表 明 書
O6: =様式第1号!O4 -> 46303
A8: （あて先） 松 江 市 長
F11: （事業者） | I11: 所 在 地 | L11: 〒
L12: =様式第1号!L8 -> 0
I13: 商 号 又 は 名 称 | L13: =様式第1号!L9 -> 0
I15: 代 表 者 職 氏 名 | L15: =様式第1号!L10 -> 0 | R15: ㊞
F18: （担当者） | I18: 職・氏名
I19: 電話番号
I20: FAX 番号
I21: Ｅ‐mail
A24: 松江市（八束）コミュニティバス運行業務委託に係るプロポーザルに参加したいので、
A25: 参加表明書を提出します。

Sheet 様式第3号
BM1: 【様式第３号】
A3: 松江市（八束）コミュニティバス運行業務委託
A4: 企 画 提 案 書
BJ6: 46303
A8: （あて先） 松 江 市 長
AA10: （事業者） | AM10: 所 在 地 | AW10: =様式第2号!L11 -> 〒
AW11: =様式第1号!L8 -> 0
AM12: 商 号 又 は 名 称 | AW12: =様式第1号!L9 -> 0
AM14: 代 表 者 職 氏 名 | AW14: =様式第1号!L10 -> 0 | BY14: ㊞
B17: 本業務に係る企画を以下のとおり提案いたします。
A19: 1 輸送（地域住民）の安全な確保と継続的な輸送の確保について
AV76: ※記載欄が不足する場合は表を追加して記入。
A80: 2 運行管理の体制（実施方法と体制）について
AZ81: 【運行管理規定の添付】
AV148: ※記載欄が不足する場合は表を追加して記入。
A153: 3 整備管理の体制（実施方法と体制）について
AY154: 【仕業表・整備管理規定・車検証の添付】
AV210: ※記載欄が不足する場合は表を追加して記入。
A213: 4 安全対策と乗務員教育について
AV214: 【前年度又は今年度の研修会等の資料添付】
AV275: ※記載欄が不足する場合は表を追加して記入。
A280: 5 災害・事故、異常気象時の対応について
BC281: 【体制図は別紙様式にて記入】
AV337: ※記載欄が不足する場合は表を追加して記入。
B341: 6 利用促進の取り組みについて
AN399: ※記載欄が不足する場合は表を追加して記入。

Sheet 様式第4号
A1: ■デマンド運行乗務員シフト（AIデマンド運行） | BN1: 【様式第４号】
BI2: =(COUNTIF($C7:$CB7,"回")/144) -> 0
U3: 1号車 | AC3: 拘束 | AI3: ( | AM3: - | AQ3: ) | AS3: 実働 | AY3: ( | AZ3: 運行 | BF3: 回送 | BL3: 準備・報告 | BV3: ） | BX3: 休憩
U4: 2号車 | AC4: 拘束 | AI4: ( | AM4: - | AQ4: ) | AS4: 実働 | AY4: ( | AZ4: 運行 | BF4: 回送 | BL4: 準備・報告 | BV4: ） | BX4: 休憩
I5: ※１セル＝１０分
B6: 号車 | C6: 6 | I6: 7 | O6: =I6+1 -> 8 | U6: =O6+1 -> 9 | AA6: =U6+1 -> 10 | AG6: =AA6+1 -> 11 | AM6: =AG6+1 -> 12 | AS6: =AM6+1 -> 13 | AY6: =AS6+1 -> 14 | BE6: =AY6+1 -> 15 | BK6: =BE6+1 -> 16 | BQ6: =BK6+1 -> 17 | BW6: =BQ6+1 -> 18
B7: 1号車
B8: 2号車
B9: ※準備：「準」、回送：「回」、運行：「1」、休憩：「休」、報告：「報」を表に時間ごとに記載すること
B10: ※必要に応じ、欄を追加・削除すること
U12: ○号車 | AC12: 拘束 | AF12: =AN12-AJ12 -> 0.38194444 | AI12: ( | AJ12: 0.31944444 | AM12: - | AN12: 0.70138889 | AQ12: ) | AS12: 実働 | AV12: =BC12+BI12+BR12 -> 0.33333333 | AY12: ( | AZ12: 運行 | BC12: 0.27083333 | BF12: 回送 | BI12: =COUNTIF($C15:$CB15,"回")/144 -> 0.034722222 | BL12: 準備・報告 | BR12: =(COUNTIF($C15:$CB15,"準")+COUNTIF($C15:$CB15,"報"))/144 -> 0.027777778 | BV12: ） | BX12: 休憩 | CA12: =AF12-AV12 -> 0.048611111
B13: 記入例
B14: 号車 | C14: 6 | I14: 7 | O14: =I14+1 -> 8 | U14: =O14+1 -> 9 | AA14: =U14+1 -> 10 | AG14: =AA14+1 -> 11 | AM14: =AG14+1 -> 12 | AS14: =AM14+1 -> 13 | AY14: =AS14+1 -> 14 | BE14: =AY14+1 -> 15 | BK14: =BE14+1 -> 16 | BQ14: =BK14+1 -> 17 | BW14: =BQ14+1 -> 18
B15: ○号車 | M15: 準 | N15: 準 | O15: 回 | P15: 1 | Q15: 1 | R15: 1 | S15: 1 | T15: 1 | U15: 1 | V15: 1 | W15: 1 | X15: 1 | Y15: 1 | Z15: 1 | AA15: 1 | AB15: 1 | AC15: 1 | AD15: 1 | AE15: 1 | AF15: 1 | AG15: 1 | AH15: 1 | AI15: 回 | AJ15: 休 | AK15: 休 | AL15: 休 | AM15: 休 | AN15: 休 | AO15: 1 | AP15: 1 | AQ15: 1 | AR15: 1 | AS15: 1 | AT15: 1 | AU15: 1 | AV15: 1 | AW15: 1 | AX15: 1 | AY15: 1 | AZ15: 回 | BA15: 休 | BB15: 休 | BC15: 回 | BD15: 1 | BE15: 1 | BF15: 1 | BG15: 1 | BH15: 1 | BI15: 1 | BJ15: 1 | BK15: 1 | BL15: 1 | BM15: 回 | BN15: 報 | BO15: 報

Sheet 様式第5号
P1: 【様式第５号】
A3: 松江市（八束）コミュニティバス運行業務委託
A4: 見 積 書
O6: =様式第3号!$BJ$6 -> 46303
A8: （あて先） 松 江 市 長
F11: （事業者） | I11: 所 在 地 | L11: =様式第2号!L11 -> 〒
L12: =様式第1号!L8 -> 0
I13: 商 号 又 は 名 称 | L13: =様式第1号!L9 -> 0
I15: 代 表 者 職 氏 名 | L15: =様式第1号!L10 -> 0 | R15: ㊞
A18: 1 当該委託業務に係る経費
C19: 金 | H19: 円 | I19: （消費税及び地方消費税相当額を含む）
C20: 履行期間：令和9年4月1日（木）から令和12年3月31日（日）まで
A22: 2 内 訳
A23: 様式第6号「経費内訳書」のとおり
C24: ※経費内訳書には、それぞれの経費に係る積算根拠を「内訳欄」に記入してください。

Sheet 様式第6号
A1: 【経費内訳書】 松江市（八束）コミュニティバス運行業務委託費 | AF1: 【様式第６号】
A7: 科目 | G7: 金額 | H7: 積 算 内 訳
E9: 人 件 費 | F9: 運 転 手
F21: 運行管理者 整備管理者
F29: 事務職員
F34: 小計（A） | G34: =SUM(G9:G33) -> 0
E37: 福 利 厚 生 費 | F37: 法定福利費
F45: 厚 生 費
F53: 小計（B） | G53: =SUM(G38:G52) -> 0
E56: 車 両 修 繕 費 | F56: 法定点検費
F58: 車検整備費
F60: 一般整備費
F62: 小計（C） | G62: =SUM(G56:G61) -> 0
E64: 燃 料 費 | F64: ガソリン
F66: 軽油
F68: 小計（D） | G68: =SUM(G64:G67) -> 0
E70: 保 険 料 | F70: 自賠責保険料
F72: 任意保険料
F74: 小計（E） | G74: =SUM(G70:G73) -> 0
E76: 車両減価 償 却 費
F80: 小計（F） | G80: =SUM(G76:G79) -> 0
E82: 公 租 公 課 費 | F82: 自動車税
F84: 自動車重量税
F86: 小計（G） | G86: =SUM(G82:G85) -> 0
E88: その他経費（H）
E95: 運送費計（I） =（A+B+C+D+E+F+G+H+I+J） | G95: =SUM(G34,G53,G62,G68,G74,G80,G86,G88) -> 0
D98: 一般管理費（J）
D101: 営業費用計（K） | G101: =SUM(G98,G95) -> 0
C103: 営業外費用（Ｋ）
C106: 合計（Ｌ） | G106: =SUM(G101+G103) -> 0
B109: 見積額 | F109: （年額，税抜） | O109: ３ヶ年業務委託費 | X109: （税抜）
F111: （消費税額） | H111: =H109*0.1 -> 0
X112: （税込）
F113: （年額，税込） | H113: =H109+H111 -> 0

Sheet 様式第7号
P1: 【様式第７号】
A3: 松江市（八束）コミュニティバス運行業務委託
A4: プロポーザルに係る質問書
O6: 2026//
B8: 質 問 事 項
B9: №
B11: 質 問 内 容
B27: 商号又は名称 | G27: =様式第1号!L9 -> 0
B28: 担当者職氏名 | G28: =様式第2号!L18 -> 0
B29: 電 話 番 号 | G29: =様式第2号!L19 -> 0
B30: F A X 番 号 | G30: =様式第2号!L20 -> 0
B31: メ ー ル | G31: =様式第2号!L21 -> 0
B32: ※質問はこの質問書１枚に１項目ずつ記載すること。

Sheet 様式第8号
P1: 【様式第８号】
A3: 松江市（八束）コミュニティバス運行業務委託
A4: 辞 退 届
O6: 2026//
A8: （あて先） 松 江 市 長
F11: （事業者） | I11: 所 在 地 | L11: =様式第2号!L11 -> 〒
L12: =様式第1号!L8 -> 0
I13: 商 号 又 は 名 称 | L13: =様式第1号!L9 -> 0
I15: 代 表 者 職 氏 名 | L15: =様式第1号!L10 -> 0 | R15: ㊞
D18: 案件名：松江市（八束）コミュニティバス運行業務委託
A21: 上記の案件について、参加表明書等を提出しましたが、都合により下記のとおり参加を辞退
A22: いたします。
A25: 【理由】
